BEGIN:VCALENDAR
VERSION:2.0
PRODID:-//Redvers, Saskatchewan - ECPv6.15.20//NONSGML v1.0//EN
CALSCALE:GREGORIAN
METHOD:PUBLISH
X-WR-CALNAME:Redvers, Saskatchewan
X-ORIGINAL-URL:https://redvers.ca
X-WR-CALDESC:Events for Redvers, Saskatchewan
REFRESH-INTERVAL;VALUE=DURATION:PT1H
X-Robots-Tag:noindex
X-PUBLISHED-TTL:PT1H
BEGIN:VTIMEZONE
TZID:America/Regina
BEGIN:STANDARD
TZOFFSETFROM:-0600
TZOFFSETTO:-0600
TZNAME:CST
DTSTART:20230101T000000
END:STANDARD
END:VTIMEZONE
BEGIN:VEVENT
DTSTART;TZID=America/Regina:20241008T063000
DTEND;TZID=America/Regina:20241008T073000
DTSTAMP:20260420T084639
CREATED:20241008T205954Z
LAST-MODIFIED:20241008T205954Z
UID:15467-1728369000-1728372600@redvers.ca
SUMMARY:Fitness Group
DESCRIPTION:
URL:https://redvers.ca/calendar-event/fitness-group-80/
LOCATION:Redvers Recreation Centre
CATEGORIES:General Events
END:VEVENT
BEGIN:VEVENT
DTSTART;TZID=America/Regina:20241008T100000
DTEND;TZID=America/Regina:20241008T110000
DTSTAMP:20260420T084639
CREATED:20241003T152807Z
LAST-MODIFIED:20241003T160324Z
UID:15363-1728381600-1728385200@redvers.ca
SUMMARY:Tiny Tots
DESCRIPTION:
URL:https://redvers.ca/calendar-event/tiny-tots-17/
LOCATION:Redvers Library
CATEGORIES:Redvers Library
ATTACH;FMTTYPE=image/jpeg:https://redvers.ca/wp-content/uploads/2024/10/RL-Tiny-Tots.jpg
END:VEVENT
BEGIN:VEVENT
DTSTART;TZID=America/Regina:20241008T154500
DTEND;TZID=America/Regina:20241008T170000
DTSTAMP:20260420T084639
CREATED:20241003T153037Z
LAST-MODIFIED:20241003T153136Z
UID:15369-1728402300-1728406800@redvers.ca
SUMMARY:Blockheadz Lego
DESCRIPTION:
URL:https://redvers.ca/calendar-event/blockheadz-lego-10/
LOCATION:Redvers Library
CATEGORIES:Redvers Library
END:VEVENT
BEGIN:VEVENT
DTSTART;TZID=America/Regina:20241008T160000
DTEND;TZID=America/Regina:20241008T180000
DTSTAMP:20260420T084639
CREATED:20241015T213047Z
LAST-MODIFIED:20241015T213047Z
UID:15578-1728403200-1728410400@redvers.ca
SUMMARY:Men's Night Golf
DESCRIPTION:
URL:https://redvers.ca/calendar-event/mens-night-golf-10/
LOCATION:Redvers Golf & Country Club
CATEGORIES:General Events
END:VEVENT
BEGIN:VEVENT
DTSTART;TZID=America/Regina:20241008T160000
DTEND;TZID=America/Regina:20241008T190000
DTSTAMP:20260420T084639
CREATED:20240326T194519Z
LAST-MODIFIED:20240326T194519Z
UID:13729-1728403200-1728414000@redvers.ca
SUMMARY:Transfer Station
DESCRIPTION:
URL:https://redvers.ca/calendar-event/transfer-station-3-2024-10-08/
CATEGORIES:Town of Redvers
END:VEVENT
END:VCALENDAR