BEGIN:VCALENDAR
VERSION:2.0
PRODID:-//Redvers, Saskatchewan - ECPv6.15.20//NONSGML v1.0//EN
CALSCALE:GREGORIAN
METHOD:PUBLISH
X-WR-CALNAME:Redvers, Saskatchewan
X-ORIGINAL-URL:https://redvers.ca
X-WR-CALDESC:Events for Redvers, Saskatchewan
REFRESH-INTERVAL;VALUE=DURATION:PT1H
X-Robots-Tag:noindex
X-PUBLISHED-TTL:PT1H
BEGIN:VTIMEZONE
TZID:America/Regina
BEGIN:STANDARD
TZOFFSETFROM:-0600
TZOFFSETTO:-0600
TZNAME:CST
DTSTART:20240101T000000
END:STANDARD
END:VTIMEZONE
BEGIN:VEVENT
DTSTART;VALUE=DATE:20250803
DTEND;VALUE=DATE:20250804
DTSTAMP:20260422T064636
CREATED:20250106T193617Z
LAST-MODIFIED:20250106T193617Z
UID:16748-1754179200-1754265599@redvers.ca
SUMMARY:Covering the Corner Deadline
DESCRIPTION:
URL:https://redvers.ca/calendar-event/covering-the-corner-deadline-10/
CATEGORIES:General Events
END:VEVENT
BEGIN:VEVENT
DTSTART;VALUE=DATE:20250807
DTEND;VALUE=DATE:20250808
DTSTAMP:20260422T064636
CREATED:20250106T193641Z
LAST-MODIFIED:20250106T193641Z
UID:16750-1754524800-1754611199@redvers.ca
SUMMARY:Covering the Corner Distribution
DESCRIPTION:
URL:https://redvers.ca/calendar-event/covering-the-corner-distribution-8/
CATEGORIES:General Events
END:VEVENT
BEGIN:VEVENT
DTSTART;VALUE=DATE:20250831
DTEND;VALUE=DATE:20250901
DTSTAMP:20260422T064636
CREATED:20250106T193706Z
LAST-MODIFIED:20250106T193706Z
UID:16752-1756598400-1756684799@redvers.ca
SUMMARY:Covering the Corner Deadline
DESCRIPTION:
URL:https://redvers.ca/calendar-event/covering-the-corner-deadline-11/
CATEGORIES:General Events
END:VEVENT
END:VCALENDAR