BEGIN:VCALENDAR
VERSION:2.0
PRODID:-//Redvers, Saskatchewan - ECPv6.15.20//NONSGML v1.0//EN
CALSCALE:GREGORIAN
METHOD:PUBLISH
X-WR-CALNAME:Redvers, Saskatchewan
X-ORIGINAL-URL:https://redvers.ca
X-WR-CALDESC:Events for Redvers, Saskatchewan
REFRESH-INTERVAL;VALUE=DURATION:PT1H
X-Robots-Tag:noindex
X-PUBLISHED-TTL:PT1H
BEGIN:VTIMEZONE
TZID:America/Regina
BEGIN:STANDARD
TZOFFSETFROM:-0600
TZOFFSETTO:-0600
TZNAME:CST
DTSTART:20240101T000000
END:STANDARD
END:VTIMEZONE
BEGIN:VEVENT
DTSTART;VALUE=DATE:20250710
DTEND;VALUE=DATE:20250711
DTSTAMP:20260421T232258
CREATED:20250106T193540Z
LAST-MODIFIED:20250106T193540Z
UID:16746-1752105600-1752191999@redvers.ca
SUMMARY:Covering the Corner Distribution
DESCRIPTION:
URL:https://redvers.ca/calendar-event/covering-the-corner-distribution-7/
CATEGORIES:General Events
END:VEVENT
BEGIN:VEVENT
DTSTART;VALUE=DATE:20250706
DTEND;VALUE=DATE:20250707
DTSTAMP:20260421T232258
CREATED:20250106T193515Z
LAST-MODIFIED:20250106T193515Z
UID:16744-1751760000-1751846399@redvers.ca
SUMMARY:Covering the Corner Deadline
DESCRIPTION:
URL:https://redvers.ca/calendar-event/covering-the-corner-deadline-9/
CATEGORIES:General Events
END:VEVENT
BEGIN:VEVENT
DTSTART;VALUE=DATE:20250605
DTEND;VALUE=DATE:20250606
DTSTAMP:20260421T232258
CREATED:20250106T193336Z
LAST-MODIFIED:20250106T193345Z
UID:16740-1749081600-1749167999@redvers.ca
SUMMARY:Covering the Corner Distribution
DESCRIPTION:
URL:https://redvers.ca/calendar-event/covering-the-corner-distribution-6/
CATEGORIES:General Events
END:VEVENT
BEGIN:VEVENT
DTSTART;VALUE=DATE:20250601
DTEND;VALUE=DATE:20250602
DTSTAMP:20260421T232258
CREATED:20250106T193418Z
LAST-MODIFIED:20250106T193418Z
UID:16742-1748736000-1748822399@redvers.ca
SUMMARY:Covering the Corner Deadline
DESCRIPTION:
URL:https://redvers.ca/calendar-event/covering-the-corner-deadline-8/
CATEGORIES:General Events
END:VEVENT
BEGIN:VEVENT
DTSTART;VALUE=DATE:20250501
DTEND;VALUE=DATE:20250502
DTSTAMP:20260421T232258
CREATED:20250106T193243Z
LAST-MODIFIED:20250106T193243Z
UID:16738-1746057600-1746143999@redvers.ca
SUMMARY:Covering the Corner Distribution
DESCRIPTION:
URL:https://redvers.ca/calendar-event/covering-the-corner-distribution-5/
CATEGORIES:General Events
END:VEVENT
BEGIN:VEVENT
DTSTART;VALUE=DATE:20250427
DTEND;VALUE=DATE:20250428
DTSTAMP:20260421T232258
CREATED:20250102T192338Z
LAST-MODIFIED:20250102T192338Z
UID:16527-1745712000-1745798399@redvers.ca
SUMMARY:Covering the Corner Deadline
DESCRIPTION:
URL:https://redvers.ca/calendar-event/covering-the-corner-deadline-7/
CATEGORIES:General Events
END:VEVENT
BEGIN:VEVENT
DTSTART;VALUE=DATE:20250403
DTEND;VALUE=DATE:20250404
DTSTAMP:20260421T232258
CREATED:20250106T193109Z
LAST-MODIFIED:20250106T193109Z
UID:16658-1743638400-1743724799@redvers.ca
SUMMARY:Covering the Corner Distribution
DESCRIPTION:
URL:https://redvers.ca/calendar-event/covering-the-corner-distribution-4/
CATEGORIES:General Events
END:VEVENT
BEGIN:VEVENT
DTSTART;VALUE=DATE:20250330
DTEND;VALUE=DATE:20250331
DTSTAMP:20260421T232258
CREATED:20250102T192023Z
LAST-MODIFIED:20250102T192023Z
UID:16522-1743292800-1743379199@redvers.ca
SUMMARY:Covering the Corner Deadline
DESCRIPTION:
URL:https://redvers.ca/calendar-event/covering-the-corner-deadline-5/
CATEGORIES:General Events
END:VEVENT
BEGIN:VEVENT
DTSTART;VALUE=DATE:20250327
DTEND;VALUE=DATE:20250328
DTSTAMP:20260421T232258
CREATED:20250102T192045Z
LAST-MODIFIED:20250102T192045Z
UID:16524-1743033600-1743119999@redvers.ca
SUMMARY:Covering the Corner Deadline
DESCRIPTION:
URL:https://redvers.ca/calendar-event/covering-the-corner-deadline-6/
CATEGORIES:General Events
END:VEVENT
BEGIN:VEVENT
DTSTART;VALUE=DATE:20250306
DTEND;VALUE=DATE:20250307
DTSTAMP:20260421T232258
CREATED:20250106T193048Z
LAST-MODIFIED:20250106T193048Z
UID:16656-1741219200-1741305599@redvers.ca
SUMMARY:Covering the Corner Distribution
DESCRIPTION:
URL:https://redvers.ca/calendar-event/covering-the-corner-distribution-3/
CATEGORIES:General Events
END:VEVENT
BEGIN:VEVENT
DTSTART;VALUE=DATE:20250302
DTEND;VALUE=DATE:20250303
DTSTAMP:20260421T232258
CREATED:20250102T192000Z
LAST-MODIFIED:20250102T192000Z
UID:16520-1740873600-1740959999@redvers.ca
SUMMARY:Covering the Corner Deadline
DESCRIPTION:
URL:https://redvers.ca/calendar-event/covering-the-corner-deadline-4/
CATEGORIES:General Events
END:VEVENT
BEGIN:VEVENT
DTSTART;TZID=America/Regina:20250228T130000
DTEND;TZID=America/Regina:20250228T153000
DTSTAMP:20260421T232258
CREATED:20250102T170002Z
LAST-MODIFIED:20250114T170107Z
UID:16782-1740747600-1740756600@redvers.ca
SUMMARY:Spades
DESCRIPTION:
URL:https://redvers.ca/calendar-event/spades-25-2025-02-28/
LOCATION:Golden Age Centre\, Redvers\, SK\, Canada
CATEGORIES:General Events
END:VEVENT
BEGIN:VEVENT
DTSTART;TZID=America/Regina:20250227T130000
DTEND;TZID=America/Regina:20250227T160000
DTSTAMP:20260421T232258
CREATED:20241230T173537Z
LAST-MODIFIED:20241230T173537Z
UID:16476-1740661200-1740672000@redvers.ca
SUMMARY:Piecemakers Quilt Club
DESCRIPTION:
URL:https://redvers.ca/calendar-event/piecemakers-quilt-club-7-2025-02-27/
LOCATION:Redvers Lutheran Church\, 46 Methuen St\, Redvers\, SK\, S0C 2H0
CATEGORIES:General Events
END:VEVENT
BEGIN:VEVENT
DTSTART;TZID=America/Regina:20250227T063000
DTEND;TZID=America/Regina:20250227T073000
DTSTAMP:20260421T232258
CREATED:20241230T173322Z
LAST-MODIFIED:20241230T173322Z
UID:16468-1740637800-1740641400@redvers.ca
SUMMARY:Fitness Group
DESCRIPTION:
URL:https://redvers.ca/calendar-event/fitness-group-96-2025-02-27/
LOCATION:Redvers Recreation Centre
CATEGORIES:General Events
END:VEVENT
BEGIN:VEVENT
DTSTART;TZID=America/Regina:20250226T130000
DTEND;TZID=America/Regina:20250226T153000
DTSTAMP:20260421T232258
CREATED:20250102T170105Z
LAST-MODIFIED:20250102T170229Z
UID:16506-1740574800-1740583800@redvers.ca
SUMMARY:Cribbage
DESCRIPTION:
URL:https://redvers.ca/calendar-event/cribbage-26-2025-02-26/
LOCATION:Golden Age Centre\, Redvers\, SK\, Canada
CATEGORIES:General Events
END:VEVENT
BEGIN:VEVENT
DTSTART;TZID=America/Regina:20250225T063000
DTEND;TZID=America/Regina:20250225T073000
DTSTAMP:20260421T232258
CREATED:20241230T173322Z
LAST-MODIFIED:20241230T173322Z
UID:16467-1740465000-1740468600@redvers.ca
SUMMARY:Fitness Group
DESCRIPTION:
URL:https://redvers.ca/calendar-event/fitness-group-96-2025-02-25/
LOCATION:Redvers Recreation Centre
CATEGORIES:General Events
END:VEVENT
BEGIN:VEVENT
DTSTART;TZID=America/Regina:20250221T130000
DTEND;TZID=America/Regina:20250221T153000
DTSTAMP:20260421T232258
CREATED:20250102T170002Z
LAST-MODIFIED:20250114T170107Z
UID:16489-1740142800-1740151800@redvers.ca
SUMMARY:Spades
DESCRIPTION:
URL:https://redvers.ca/calendar-event/spades-25-2025-02-21/
LOCATION:Golden Age Centre\, Redvers\, SK\, Canada
CATEGORIES:General Events
END:VEVENT
BEGIN:VEVENT
DTSTART;TZID=America/Regina:20250220T130000
DTEND;TZID=America/Regina:20250220T160000
DTSTAMP:20260421T232258
CREATED:20241230T173537Z
LAST-MODIFIED:20241230T173537Z
UID:16475-1740056400-1740067200@redvers.ca
SUMMARY:Piecemakers Quilt Club
DESCRIPTION:
URL:https://redvers.ca/calendar-event/piecemakers-quilt-club-7-2025-02-20/
LOCATION:Redvers Lutheran Church\, 46 Methuen St\, Redvers\, SK\, S0C 2H0
CATEGORIES:General Events
END:VEVENT
BEGIN:VEVENT
DTSTART;TZID=America/Regina:20250220T063000
DTEND;TZID=America/Regina:20250220T073000
DTSTAMP:20260421T232258
CREATED:20241230T173322Z
LAST-MODIFIED:20241230T173322Z
UID:16466-1740033000-1740036600@redvers.ca
SUMMARY:Fitness Group
DESCRIPTION:
URL:https://redvers.ca/calendar-event/fitness-group-96-2025-02-20/
LOCATION:Redvers Recreation Centre
CATEGORIES:General Events
END:VEVENT
BEGIN:VEVENT
DTSTART;TZID=America/Regina:20250219T130000
DTEND;TZID=America/Regina:20250219T153000
DTSTAMP:20260421T232258
CREATED:20250102T170105Z
LAST-MODIFIED:20250102T170228Z
UID:16505-1739970000-1739979000@redvers.ca
SUMMARY:Cribbage
DESCRIPTION:
URL:https://redvers.ca/calendar-event/cribbage-26-2025-02-19/
LOCATION:Golden Age Centre\, Redvers\, SK\, Canada
CATEGORIES:General Events
END:VEVENT
BEGIN:VEVENT
DTSTART;TZID=America/Regina:20250218T063000
DTEND;TZID=America/Regina:20250218T073000
DTSTAMP:20260421T232258
CREATED:20241230T173322Z
LAST-MODIFIED:20241230T173322Z
UID:16465-1739860200-1739863800@redvers.ca
SUMMARY:Fitness Group
DESCRIPTION:
URL:https://redvers.ca/calendar-event/fitness-group-96-2025-02-18/
LOCATION:Redvers Recreation Centre
CATEGORIES:General Events
END:VEVENT
BEGIN:VEVENT
DTSTART;TZID=America/Regina:20250214T130000
DTEND;TZID=America/Regina:20250214T153000
DTSTAMP:20260421T232258
CREATED:20250102T170002Z
LAST-MODIFIED:20250114T170107Z
UID:16488-1739538000-1739547000@redvers.ca
SUMMARY:Spades
DESCRIPTION:
URL:https://redvers.ca/calendar-event/spades-25-2025-02-14/
LOCATION:Golden Age Centre\, Redvers\, SK\, Canada
CATEGORIES:General Events
END:VEVENT
BEGIN:VEVENT
DTSTART;TZID=America/Regina:20250213T130000
DTEND;TZID=America/Regina:20250213T160000
DTSTAMP:20260421T232258
CREATED:20241230T173537Z
LAST-MODIFIED:20241230T173537Z
UID:16474-1739451600-1739462400@redvers.ca
SUMMARY:Piecemakers Quilt Club
DESCRIPTION:
URL:https://redvers.ca/calendar-event/piecemakers-quilt-club-7-2025-02-13/
LOCATION:Redvers Lutheran Church\, 46 Methuen St\, Redvers\, SK\, S0C 2H0
CATEGORIES:General Events
END:VEVENT
BEGIN:VEVENT
DTSTART;TZID=America/Regina:20250213T063000
DTEND;TZID=America/Regina:20250213T073000
DTSTAMP:20260421T232258
CREATED:20241230T173322Z
LAST-MODIFIED:20241230T173322Z
UID:16464-1739428200-1739431800@redvers.ca
SUMMARY:Fitness Group
DESCRIPTION:
URL:https://redvers.ca/calendar-event/fitness-group-96-2025-02-13/
LOCATION:Redvers Recreation Centre
CATEGORIES:General Events
END:VEVENT
BEGIN:VEVENT
DTSTART;TZID=America/Regina:20250212T130000
DTEND;TZID=America/Regina:20250212T153000
DTSTAMP:20260421T232258
CREATED:20250102T170105Z
LAST-MODIFIED:20250102T170228Z
UID:16504-1739365200-1739374200@redvers.ca
SUMMARY:Cribbage
DESCRIPTION:
URL:https://redvers.ca/calendar-event/cribbage-26-2025-02-12/
LOCATION:Golden Age Centre\, Redvers\, SK\, Canada
CATEGORIES:General Events
END:VEVENT
BEGIN:VEVENT
DTSTART;TZID=America/Regina:20250211T063000
DTEND;TZID=America/Regina:20250211T073000
DTSTAMP:20260421T232258
CREATED:20241230T173322Z
LAST-MODIFIED:20241230T173322Z
UID:16462-1739255400-1739259000@redvers.ca
SUMMARY:Fitness Group
DESCRIPTION:
URL:https://redvers.ca/calendar-event/fitness-group-96-2025-02-11/
LOCATION:Redvers Recreation Centre
CATEGORIES:General Events
END:VEVENT
BEGIN:VEVENT
DTSTART;TZID=America/Regina:20250207T130000
DTEND;TZID=America/Regina:20250207T153000
DTSTAMP:20260421T232258
CREATED:20250102T170002Z
LAST-MODIFIED:20250114T170107Z
UID:16487-1738933200-1738942200@redvers.ca
SUMMARY:Spades
DESCRIPTION:
URL:https://redvers.ca/calendar-event/spades-25-2025-02-07/
LOCATION:Golden Age Centre\, Redvers\, SK\, Canada
CATEGORIES:General Events
END:VEVENT
BEGIN:VEVENT
DTSTART;TZID=America/Regina:20250206T130000
DTEND;TZID=America/Regina:20250206T160000
DTSTAMP:20260421T232258
CREATED:20241230T173537Z
LAST-MODIFIED:20241230T173537Z
UID:16473-1738846800-1738857600@redvers.ca
SUMMARY:Piecemakers Quilt Club
DESCRIPTION:
URL:https://redvers.ca/calendar-event/piecemakers-quilt-club-7-2025-02-06/
LOCATION:Redvers Lutheran Church\, 46 Methuen St\, Redvers\, SK\, S0C 2H0
CATEGORIES:General Events
END:VEVENT
BEGIN:VEVENT
DTSTART;TZID=America/Regina:20250206T063000
DTEND;TZID=America/Regina:20250206T073000
DTSTAMP:20260421T232258
CREATED:20241230T173322Z
LAST-MODIFIED:20241230T173322Z
UID:16461-1738823400-1738827000@redvers.ca
SUMMARY:Fitness Group
DESCRIPTION:
URL:https://redvers.ca/calendar-event/fitness-group-96-2025-02-06/
LOCATION:Redvers Recreation Centre
CATEGORIES:General Events
END:VEVENT
BEGIN:VEVENT
DTSTART;VALUE=DATE:20250206
DTEND;VALUE=DATE:20250207
DTSTAMP:20260421T232258
CREATED:20250106T192749Z
LAST-MODIFIED:20250106T192749Z
UID:16654-1738800000-1738886399@redvers.ca
SUMMARY:Covering the Corner Distribution
DESCRIPTION:
URL:https://redvers.ca/calendar-event/covering-the-corner-distribution-2/
CATEGORIES:General Events
END:VEVENT
END:VCALENDAR