BEGIN:VCALENDAR
VERSION:2.0
PRODID:-//Redvers, Saskatchewan - ECPv6.15.20//NONSGML v1.0//EN
CALSCALE:GREGORIAN
METHOD:PUBLISH
X-WR-CALNAME:Redvers, Saskatchewan
X-ORIGINAL-URL:https://redvers.ca
X-WR-CALDESC:Events for Redvers, Saskatchewan
REFRESH-INTERVAL;VALUE=DURATION:PT1H
X-Robots-Tag:noindex
X-PUBLISHED-TTL:PT1H
BEGIN:VTIMEZONE
TZID:America/Regina
BEGIN:STANDARD
TZOFFSETFROM:-0600
TZOFFSETTO:-0600
TZNAME:CST
DTSTART:20230101T000000
END:STANDARD
END:VTIMEZONE
BEGIN:VEVENT
DTSTART;VALUE=DATE:20241214
DTEND;VALUE=DATE:20241215
DTSTAMP:20260422T094314
CREATED:20241104T205417Z
LAST-MODIFIED:20241104T205417Z
UID:15874-1734134400-1734220799@redvers.ca
SUMMARY:Redvers Winterfest
DESCRIPTION:
URL:https://redvers.ca/calendar-event/redvers-winterfest-4/
LOCATION:SK
CATEGORIES:General Events
END:VEVENT
BEGIN:VEVENT
DTSTART;TZID=America/Regina:20241213T133000
DTEND;TZID=America/Regina:20241213T153000
DTSTAMP:20260422T094314
CREATED:20241122T153519Z
LAST-MODIFIED:20241122T153519Z
UID:16104-1734096600-1734103800@redvers.ca
SUMMARY:Spades
DESCRIPTION:
URL:https://redvers.ca/calendar-event/spades-24-2024-12-13/
LOCATION:Golden Age Centre\, Redvers\, SK\, Canada
CATEGORIES:General Events
END:VEVENT
BEGIN:VEVENT
DTSTART;TZID=America/Regina:20241212T063000
DTEND;TZID=America/Regina:20241212T073000
DTSTAMP:20260422T094314
CREATED:20241104T205049Z
LAST-MODIFIED:20241104T205049Z
UID:16094-1733985000-1733988600@redvers.ca
SUMMARY:Fitness Group
DESCRIPTION:
URL:https://redvers.ca/calendar-event/fitness-group-95-2024-12-12/
LOCATION:Redvers Recreation Centre
CATEGORIES:General Events
END:VEVENT
BEGIN:VEVENT
DTSTART;VALUE=DATE:20241212
DTEND;VALUE=DATE:20241213
DTSTAMP:20260422T094314
CREATED:20241129T183852Z
LAST-MODIFIED:20241129T184340Z
UID:16191-1733961600-1734047999@redvers.ca
SUMMARY:Piecemakers Quilt Club - Holiday Break
DESCRIPTION:The holiday break is from December 5th to January 2nd\, resuming on January 9th.
URL:https://redvers.ca/calendar-event/piecemakers-quilt-club-holiday-break-2024-12-12/
LOCATION:SK
CATEGORIES:General Events
END:VEVENT
BEGIN:VEVENT
DTSTART;TZID=America/Regina:20241211T133000
DTEND;TZID=America/Regina:20241211T153000
DTSTAMP:20260422T094314
CREATED:20241122T153115Z
LAST-MODIFIED:20241122T153115Z
UID:16098-1733923800-1733931000@redvers.ca
SUMMARY:Cribbage
DESCRIPTION:
URL:https://redvers.ca/calendar-event/cribbage-25-2024-12-11/
LOCATION:Golden Age Centre\, Redvers\, SK\, Canada
CATEGORIES:General Events
END:VEVENT
BEGIN:VEVENT
DTSTART;TZID=America/Regina:20241210T063000
DTEND;TZID=America/Regina:20241210T073000
DTSTAMP:20260422T094314
CREATED:20241104T205049Z
LAST-MODIFIED:20241104T205049Z
UID:16093-1733812200-1733815800@redvers.ca
SUMMARY:Fitness Group
DESCRIPTION:
URL:https://redvers.ca/calendar-event/fitness-group-95-2024-12-10/
LOCATION:Redvers Recreation Centre
CATEGORIES:General Events
END:VEVENT
BEGIN:VEVENT
DTSTART;VALUE=DATE:20241210
DTEND;VALUE=DATE:20241211
DTSTAMP:20260422T094314
CREATED:20241114T203042Z
LAST-MODIFIED:20241114T203042Z
UID:15946-1733788800-1733875199@redvers.ca
SUMMARY:Christmas Lights Contest Deadline
DESCRIPTION:
URL:https://redvers.ca/calendar-event/christmas-lights-contest-deadline/
LOCATION:SK
CATEGORIES:General Events
ATTACH;FMTTYPE=image/jpeg:https://redvers.ca/wp-content/uploads/2024/11/Christmas-Lights-Contest.jpg
END:VEVENT
BEGIN:VEVENT
DTSTART;TZID=America/Regina:20241208T150000
DTEND;TZID=America/Regina:20241208T170000
DTSTAMP:20260422T094314
CREATED:20241122T153650Z
LAST-MODIFIED:20241126T162109Z
UID:16178-1733670000-1733677200@redvers.ca
SUMMARY:Adult Pickle Ball
DESCRIPTION:
URL:https://redvers.ca/calendar-event/adult-pickle-ball-2024-12-08/
LOCATION:Redvers School
CATEGORIES:General Events
END:VEVENT
BEGIN:VEVENT
DTSTART;TZID=America/Regina:20241206T133000
DTEND;TZID=America/Regina:20241206T153000
DTSTAMP:20260422T094314
CREATED:20241122T153519Z
LAST-MODIFIED:20241122T153519Z
UID:16103-1733491800-1733499000@redvers.ca
SUMMARY:Spades
DESCRIPTION:
URL:https://redvers.ca/calendar-event/spades-24-2024-12-06/
LOCATION:Golden Age Centre\, Redvers\, SK\, Canada
CATEGORIES:General Events
END:VEVENT
BEGIN:VEVENT
DTSTART;TZID=America/Regina:20241205T063000
DTEND;TZID=America/Regina:20241205T073000
DTSTAMP:20260422T094314
CREATED:20241104T205049Z
LAST-MODIFIED:20241104T205049Z
UID:16092-1733380200-1733383800@redvers.ca
SUMMARY:Fitness Group
DESCRIPTION:
URL:https://redvers.ca/calendar-event/fitness-group-95-2024-12-05/
LOCATION:Redvers Recreation Centre
CATEGORIES:General Events
END:VEVENT
BEGIN:VEVENT
DTSTART;VALUE=DATE:20241205
DTEND;VALUE=DATE:20241206
DTSTAMP:20260422T094314
CREATED:20231122T214508Z
LAST-MODIFIED:20231122T214717Z
UID:12215-1733356800-1733443199@redvers.ca
SUMMARY:Covering the Corner Distribution Date
DESCRIPTION:
URL:https://redvers.ca/calendar-event/covering-the-corner-distribution-date-2-2024-12-05/
LOCATION:SK
CATEGORIES:General Events
END:VEVENT
BEGIN:VEVENT
DTSTART;VALUE=DATE:20241205
DTEND;VALUE=DATE:20241206
DTSTAMP:20260422T094314
CREATED:20241129T183852Z
LAST-MODIFIED:20241129T184340Z
UID:16190-1733356800-1733443199@redvers.ca
SUMMARY:Piecemakers Quilt Club - Holiday Break
DESCRIPTION:The holiday break is from December 5th to January 2nd\, resuming on January 9th.
URL:https://redvers.ca/calendar-event/piecemakers-quilt-club-holiday-break/
LOCATION:SK
CATEGORIES:General Events
END:VEVENT
BEGIN:VEVENT
DTSTART;TZID=America/Regina:20241204T133000
DTEND;TZID=America/Regina:20241204T153000
DTSTAMP:20260422T094314
CREATED:20241122T153115Z
LAST-MODIFIED:20241122T153115Z
UID:16097-1733319000-1733326200@redvers.ca
SUMMARY:Cribbage
DESCRIPTION:
URL:https://redvers.ca/calendar-event/cribbage-25-2024-12-04/
LOCATION:Golden Age Centre\, Redvers\, SK\, Canada
CATEGORIES:General Events
END:VEVENT
BEGIN:VEVENT
DTSTART;TZID=America/Regina:20241203T063000
DTEND;TZID=America/Regina:20241203T073000
DTSTAMP:20260422T094314
CREATED:20241104T205049Z
LAST-MODIFIED:20241104T205049Z
UID:16091-1733207400-1733211000@redvers.ca
SUMMARY:Fitness Group
DESCRIPTION:
URL:https://redvers.ca/calendar-event/fitness-group-95-2024-12-03/
LOCATION:Redvers Recreation Centre
CATEGORIES:General Events
END:VEVENT
BEGIN:VEVENT
DTSTART;TZID=America/Regina:20241201T150000
DTEND;TZID=America/Regina:20241201T170000
DTSTAMP:20260422T094314
CREATED:20241122T153650Z
LAST-MODIFIED:20241126T162109Z
UID:16012-1733065200-1733072400@redvers.ca
SUMMARY:Adult Pickle Ball
DESCRIPTION:
URL:https://redvers.ca/calendar-event/adult-pickle-ball/
LOCATION:Redvers School
CATEGORIES:General Events
END:VEVENT
BEGIN:VEVENT
DTSTART;VALUE=DATE:20241201
DTEND;VALUE=DATE:20241202
DTSTAMP:20260422T094314
CREATED:20231122T212944Z
LAST-MODIFIED:20231122T214242Z
UID:12181-1733011200-1733097599@redvers.ca
SUMMARY:Covering the Corner Deadline
DESCRIPTION:
URL:https://redvers.ca/calendar-event/covering-the-corner-deadline-2024-11-24/
LOCATION:SK
CATEGORIES:General Events
END:VEVENT
BEGIN:VEVENT
DTSTART;TZID=America/Regina:20241129T133000
DTEND;TZID=America/Regina:20241129T153000
DTSTAMP:20260422T094314
CREATED:20241122T153519Z
LAST-MODIFIED:20241125T155243Z
UID:16010-1732887000-1732894200@redvers.ca
SUMMARY:Spades
DESCRIPTION:
URL:https://redvers.ca/calendar-event/spades-24/
LOCATION:Golden Age Centre\, Redvers\, SK\, Canada
CATEGORIES:General Events
END:VEVENT
BEGIN:VEVENT
DTSTART;TZID=America/Regina:20241128T130000
DTEND;TZID=America/Regina:20241128T160000
DTSTAMP:20260422T094314
CREATED:20241118T195304Z
LAST-MODIFIED:20241129T183633Z
UID:15966-1732798800-1732809600@redvers.ca
SUMMARY:Piecemakers Quilt Club
DESCRIPTION:
URL:https://redvers.ca/calendar-event/piecemakers-quilt-club-6/
LOCATION:Dannevirke Lutheran Church
CATEGORIES:General Events
ATTACH;FMTTYPE=image/jpeg:https://redvers.ca/wp-content/uploads/2024/10/Piecemakers-Quilt-Club.jpg
END:VEVENT
BEGIN:VEVENT
DTSTART;TZID=America/Regina:20241128T063000
DTEND;TZID=America/Regina:20241128T073000
DTSTAMP:20260422T094314
CREATED:20241104T205049Z
LAST-MODIFIED:20241125T154901Z
UID:15871-1732775400-1732779000@redvers.ca
SUMMARY:Fitness Group
DESCRIPTION:
URL:https://redvers.ca/calendar-event/fitness-group-95/
LOCATION:Redvers Recreation Centre
CATEGORIES:General Events
END:VEVENT
BEGIN:VEVENT
DTSTART;TZID=America/Regina:20241127T133000
DTEND;TZID=America/Regina:20241127T153000
DTSTAMP:20260422T094314
CREATED:20241122T153115Z
LAST-MODIFIED:20241125T155028Z
UID:16006-1732714200-1732721400@redvers.ca
SUMMARY:Cribbage
DESCRIPTION:
URL:https://redvers.ca/calendar-event/cribbage-25/
LOCATION:Golden Age Centre\, Redvers\, SK\, Canada
CATEGORIES:General Events
END:VEVENT
BEGIN:VEVENT
DTSTART;TZID=America/Regina:20241126T160000
DTEND;TZID=America/Regina:20241126T200000
DTSTAMP:20260422T094314
CREATED:20241112T145045Z
LAST-MODIFIED:20241112T145045Z
UID:15917-1732636800-1732651200@redvers.ca
SUMMARY:Beauty\, Bubbles\, and Beyond
DESCRIPTION:
URL:https://redvers.ca/calendar-event/beauty-bubbles-and-beyond/
LOCATION:Luxe Beauty on Railway\, 21 Railway Ave\, Redvers\, SK\, S0C 2H0\, Canada
CATEGORIES:General Events
ATTACH;FMTTYPE=image/jpeg:https://redvers.ca/wp-content/uploads/2024/11/Beauty-Bubbles-and-Beyond.jpg
END:VEVENT
BEGIN:VEVENT
DTSTART;TZID=America/Regina:20241126T063000
DTEND;TZID=America/Regina:20241126T073000
DTSTAMP:20260422T094314
CREATED:20241104T205026Z
LAST-MODIFIED:20241104T205026Z
UID:15869-1732602600-1732606200@redvers.ca
SUMMARY:Fitness Group
DESCRIPTION:
URL:https://redvers.ca/calendar-event/fitness-group-94/
LOCATION:Redvers Recreation Centre
CATEGORIES:General Events
END:VEVENT
BEGIN:VEVENT
DTSTART;TZID=America/Regina:20241124T153000
DTEND;TZID=America/Regina:20241124T170000
DTSTAMP:20260422T094314
CREATED:20241114T205534Z
LAST-MODIFIED:20241114T205558Z
UID:15949-1732462200-1732467600@redvers.ca
SUMMARY:Adult Pickleball
DESCRIPTION:$5 Drop in Fee                          Please contact Sara if you are interested!                                 @1-306-452-8211
URL:https://redvers.ca/calendar-event/adult-pickleball-4/
LOCATION:Redvers School
CATEGORIES:General Events
END:VEVENT
BEGIN:VEVENT
DTSTART;TZID=America/Regina:20241123T140000
DTEND;TZID=America/Regina:20241123T160000
DTSTAMP:20260422T094314
CREATED:20241021T154012Z
LAST-MODIFIED:20241021T154012Z
UID:15662-1732370400-1732377600@redvers.ca
SUMMARY:Tea and Bake Sale
DESCRIPTION:
URL:https://redvers.ca/calendar-event/tea-and-bake-sale-2/
LOCATION:Redvers Lutheran Church\, 46 Methuen St\, Redvers\, SK\, S0C 2H0
CATEGORIES:General Events
ATTACH;FMTTYPE=image/jpeg:https://redvers.ca/wp-content/uploads/2024/10/Bake-Sale.jpg
END:VEVENT
BEGIN:VEVENT
DTSTART;TZID=America/Regina:20241122T133000
DTEND;TZID=America/Regina:20241122T153000
DTSTAMP:20260422T094314
CREATED:20241122T153458Z
LAST-MODIFIED:20241122T153458Z
UID:16008-1732282200-1732289400@redvers.ca
SUMMARY:Spades
DESCRIPTION:
URL:https://redvers.ca/calendar-event/spades-23/
LOCATION:Golden Age Centre\, Redvers\, SK\, Canada
CATEGORIES:General Events
END:VEVENT
BEGIN:VEVENT
DTSTART;TZID=America/Regina:20241121T130000
DTEND;TZID=America/Regina:20241121T160000
DTSTAMP:20260422T094314
CREATED:20241118T195102Z
LAST-MODIFIED:20241118T195140Z
UID:15962-1732194000-1732204800@redvers.ca
SUMMARY:Piecemakers Quilt Club
DESCRIPTION:
URL:https://redvers.ca/calendar-event/piecemakers-quilt-club-4/
LOCATION:Redvers Lutheran Church\, 46 Methuen St\, Redvers\, SK\, S0C 2H0
CATEGORIES:General Events
ATTACH;FMTTYPE=image/jpeg:https://redvers.ca/wp-content/uploads/2024/10/Piecemakers-Quilt-Club.jpg
END:VEVENT
BEGIN:VEVENT
DTSTART;TZID=America/Regina:20241121T063000
DTEND;TZID=America/Regina:20241121T073000
DTSTAMP:20260422T094314
CREATED:20241104T205004Z
LAST-MODIFIED:20241104T205004Z
UID:15867-1732170600-1732174200@redvers.ca
SUMMARY:Fitness Group
DESCRIPTION:
URL:https://redvers.ca/calendar-event/fitness-group-93/
LOCATION:Redvers Recreation Centre
CATEGORIES:General Events
END:VEVENT
BEGIN:VEVENT
DTSTART;TZID=America/Regina:20241120T133000
DTEND;TZID=America/Regina:20241120T153000
DTSTAMP:20260422T094314
CREATED:20241122T153016Z
LAST-MODIFIED:20241122T153049Z
UID:16004-1732109400-1732116600@redvers.ca
SUMMARY:Cribbage
DESCRIPTION:
URL:https://redvers.ca/calendar-event/cribbage-24/
LOCATION:Golden Age Centre\, Redvers\, SK\, Canada
CATEGORIES:General Events
END:VEVENT
BEGIN:VEVENT
DTSTART;TZID=America/Regina:20241119T063000
DTEND;TZID=America/Regina:20241119T073000
DTSTAMP:20260422T094314
CREATED:20241104T204940Z
LAST-MODIFIED:20241104T204940Z
UID:15865-1731997800-1732001400@redvers.ca
SUMMARY:Fitness Group
DESCRIPTION:
URL:https://redvers.ca/calendar-event/fitness-group-92/
LOCATION:Redvers Recreation Centre
CATEGORIES:General Events
END:VEVENT
BEGIN:VEVENT
DTSTART;TZID=America/Regina:20241117T150000
DTEND;TZID=America/Regina:20241117T170000
DTSTAMP:20260422T094314
CREATED:20241108T161438Z
LAST-MODIFIED:20241108T161438Z
UID:15899-1731855600-1731862800@redvers.ca
SUMMARY:Adult Pickleball
DESCRIPTION:$5 Drop in Fee                          Please contact Sara if you are interested!                                   @1-306-452-8211
URL:https://redvers.ca/calendar-event/adult-pickleball-3/
LOCATION:Redvers School
CATEGORIES:General Events
END:VEVENT
END:VCALENDAR