BEGIN:VCALENDAR
VERSION:2.0
PRODID:-//Redvers, Saskatchewan - ECPv6.15.20//NONSGML v1.0//EN
CALSCALE:GREGORIAN
METHOD:PUBLISH
X-WR-CALNAME:Redvers, Saskatchewan
X-ORIGINAL-URL:https://redvers.ca
X-WR-CALDESC:Events for Redvers, Saskatchewan
REFRESH-INTERVAL;VALUE=DURATION:PT1H
X-Robots-Tag:noindex
X-PUBLISHED-TTL:PT1H
BEGIN:VTIMEZONE
TZID:America/Regina
BEGIN:STANDARD
TZOFFSETFROM:-0600
TZOFFSETTO:-0600
TZNAME:CST
DTSTART:20170101T000000
END:STANDARD
END:VTIMEZONE
BEGIN:VEVENT
DTSTART;VALUE=DATE:20230318
DTEND;VALUE=DATE:20230320
DTSTAMP:20260421T050143
CREATED:20230223T171031Z
LAST-MODIFIED:20230223T171035Z
UID:10575-1679097600-1679270399@redvers.ca
SUMMARY:Farmers' Bonspiel
DESCRIPTION:
URL:https://redvers.ca/calendar-event/farmers-bonspiel-4/
LOCATION:Redvers Recreation Centre
CATEGORIES:Recreation Centre Events,Redvers Curling Club
END:VEVENT
BEGIN:VEVENT
DTSTART;VALUE=DATE:20230317
DTEND;VALUE=DATE:20230318
DTSTAMP:20260421T050143
CREATED:20230223T171409Z
LAST-MODIFIED:20230223T171413Z
UID:10578-1679011200-1679097599@redvers.ca
SUMMARY:14 & Under Jam Can Bonspiel
DESCRIPTION:
URL:https://redvers.ca/calendar-event/14-under-jam-can-bonspiel/
LOCATION:Redvers Recreation Centre
CATEGORIES:Recreation Centre Events,Redvers Curling Club
END:VEVENT
BEGIN:VEVENT
DTSTART;TZID=America/Regina:20230222T140000
DTEND;TZID=America/Regina:20230222T160000
DTSTAMP:20260421T050144
CREATED:20230221T170933Z
LAST-MODIFIED:20230221T171039Z
UID:10514-1677074400-1677081600@redvers.ca
SUMMARY:Curling
DESCRIPTION:
URL:https://redvers.ca/calendar-event/public-skate-115/
LOCATION:Redvers Recreation Centre
CATEGORIES:Recreation Centre Events,Redvers Curling Club
END:VEVENT
BEGIN:VEVENT
DTSTART;TZID=America/Regina:20230210T190000
DTEND;TZID=America/Regina:20230210T233000
DTSTAMP:20260421T050144
CREATED:20230131T223551Z
LAST-MODIFIED:20230131T223555Z
UID:10324-1676055600-1676071800@redvers.ca
SUMMARY:Valentine's Day Couples Bonspiel
DESCRIPTION:
URL:https://redvers.ca/calendar-event/valentines-day-couples-bonspiel/
LOCATION:Redvers Recreation Centre
CATEGORIES:Redvers Curling Club
END:VEVENT
BEGIN:VEVENT
DTSTART;VALUE=DATE:20220318
DTEND;VALUE=DATE:20220319
DTSTAMP:20260421T050144
CREATED:20220223T225502Z
LAST-MODIFIED:20220223T225502Z
UID:8116-1647561600-1647647999@redvers.ca
SUMMARY:Jam Can 14 & Under Bonspiel
DESCRIPTION:
URL:https://redvers.ca/calendar-event/jam-can-14-under-bonspiel/
CATEGORIES:Redvers Curling Club
END:VEVENT
BEGIN:VEVENT
DTSTART;VALUE=DATE:20220304
DTEND;VALUE=DATE:20220306
DTSTAMP:20260421T050144
CREATED:20220223T225410Z
LAST-MODIFIED:20220223T225410Z
UID:8114-1646352000-1646524799@redvers.ca
SUMMARY:Farmer's Bonspiel
DESCRIPTION:See poster for details.
URL:https://redvers.ca/calendar-event/farmers-bonspiel-3/
CATEGORIES:Redvers Curling Club
END:VEVENT
BEGIN:VEVENT
DTSTART;TZID=America/Regina:20220228T153000
DTEND;TZID=America/Regina:20220228T173000
DTSTAMP:20260421T050144
CREATED:20220223T224741Z
LAST-MODIFIED:20220223T224741Z
UID:8098-1646062200-1646069400@redvers.ca
SUMMARY:After School Curling
DESCRIPTION:
URL:https://redvers.ca/calendar-event/after-school-curling/
CATEGORIES:Redvers Curling Club
END:VEVENT
BEGIN:VEVENT
DTSTART;TZID=America/Regina:20220224T193000
DTEND;TZID=America/Regina:20220224T213000
DTSTAMP:20260421T050144
CREATED:20220223T225333Z
LAST-MODIFIED:20220223T225333Z
UID:8106-1645731000-1645738200@redvers.ca
SUMMARY:Open Curling
DESCRIPTION:$10/person
URL:https://redvers.ca/calendar-event/open-curling/
CATEGORIES:Redvers Curling Club
END:VEVENT
BEGIN:VEVENT
DTSTART;VALUE=DATE:20200306
DTEND;VALUE=DATE:20200308
DTSTAMP:20260421T050144
CREATED:20191121T184346Z
LAST-MODIFIED:20200113T215312Z
UID:6063-1583452800-1583625599@redvers.ca
SUMMARY:Farmers and Friends Spiel
DESCRIPTION:
URL:https://redvers.ca/calendar-event/farmers-and-friend-spiel/
CATEGORIES:Redvers Curling Club
END:VEVENT
BEGIN:VEVENT
DTSTART;VALUE=DATE:20200214
DTEND;VALUE=DATE:20200215
DTSTAMP:20260421T050144
CREATED:20191121T184237Z
LAST-MODIFIED:20200113T215225Z
UID:6061-1581638400-1581724799@redvers.ca
SUMMARY:2 on 2 Valentines Spiel
DESCRIPTION:
URL:https://redvers.ca/calendar-event/2-on-2-valentines-spiel/
CATEGORIES:Redvers Curling Club
END:VEVENT
BEGIN:VEVENT
DTSTART;VALUE=DATE:20200208
DTEND;VALUE=DATE:20200209
DTSTAMP:20260421T050144
CREATED:20191121T184147Z
LAST-MODIFIED:20200131T172109Z
UID:6059-1581120000-1581206399@redvers.ca
SUMMARY:Funspiel
DESCRIPTION:Contact Megan Ellison 306-308-0206 or Derek Soroka 306-452-7858 to enter a team
URL:https://redvers.ca/calendar-event/funspiel/
CATEGORIES:Redvers Curling Club
END:VEVENT
BEGIN:VEVENT
DTSTART;VALUE=DATE:20200131
DTEND;VALUE=DATE:20200201
DTSTAMP:20260421T050144
CREATED:20191121T184101Z
LAST-MODIFIED:20200131T172149Z
UID:6057-1580428800-1580515199@redvers.ca
SUMMARY:Jam Can Bonspiel
DESCRIPTION:Contact Cheryl Ohnander 306-452-7223
URL:https://redvers.ca/calendar-event/jam-can-bonspiel/
CATEGORIES:Redvers Curling Club
END:VEVENT
BEGIN:VEVENT
DTSTART;VALUE=DATE:20200125
DTEND;VALUE=DATE:20200126
DTSTAMP:20260421T050144
CREATED:20191121T183958Z
LAST-MODIFIED:20191121T184022Z
UID:6054-1579910400-1579996799@redvers.ca
SUMMARY:Curling for a Cure Bonspiel
DESCRIPTION:Contact Derek Soroka 306-452-7858 or Katrina Rocha 306-840-8234 to enter a team. All proceeds go to Relay for Life Team “No One Fights Alone”
URL:https://redvers.ca/calendar-event/curling-for-a-cure-bonspiel/
CATEGORIES:Redvers Curling Club
END:VEVENT
BEGIN:VEVENT
DTSTART;VALUE=DATE:20200110
DTEND;VALUE=DATE:20200112
DTSTAMP:20260421T050144
CREATED:20191121T183903Z
LAST-MODIFIED:20191213T171221Z
UID:6052-1578614400-1578787199@redvers.ca
SUMMARY:Fireman's Bonspiel
DESCRIPTION:
URL:https://redvers.ca/calendar-event/firemans-bonspiel/
CATEGORIES:Redvers Curling Club
END:VEVENT
BEGIN:VEVENT
DTSTART;VALUE=DATE:20191226
DTEND;VALUE=DATE:20191227
DTSTAMP:20260421T050144
CREATED:20191121T183432Z
LAST-MODIFIED:20191121T183452Z
UID:6049-1577318400-1577404799@redvers.ca
SUMMARY:Annual Boxing Day Bonspiel
DESCRIPTION:Contact Kyndal Matthewson 306-482-8400 or Natasha Poirier 306-452-7776 to enter a team
URL:https://redvers.ca/calendar-event/annual-boxing-day-bonspiel-2/
CATEGORIES:Redvers Curling Club
END:VEVENT
BEGIN:VEVENT
DTSTART;VALUE=DATE:20191206
DTEND;VALUE=DATE:20191207
DTSTAMP:20260421T050144
CREATED:20191121T183349Z
LAST-MODIFIED:20191121T183349Z
UID:6047-1575590400-1575676799@redvers.ca
SUMMARY:2 on 2 Bonspiel
DESCRIPTION:Contact Derek Soroka 306-452-7858 or Kyndal Matthewson 306-452-8400 to enter a 2 person team
URL:https://redvers.ca/calendar-event/2-on-2-bonspiel/
CATEGORIES:Redvers Curling Club
END:VEVENT
BEGIN:VEVENT
DTSTART;VALUE=DATE:20190322
DTEND;VALUE=DATE:20190323
DTSTAMP:20260421T050144
CREATED:20181123T213239Z
LAST-MODIFIED:20181123T213239Z
UID:4754-1553212800-1553299199@redvers.ca
SUMMARY:Curling Club - 2 Person Fun Spiel
DESCRIPTION:Contact Kyndal (306)452-8400 or Derek (306)452-7858 for more information.  \nPlease see attachment for the entire Redvers Curling Club Bonspiel Schedule!
URL:https://redvers.ca/calendar-event/curling-club-2-person-fun-spiel/
CATEGORIES:Redvers Curling Club
END:VEVENT
BEGIN:VEVENT
DTSTART;VALUE=DATE:20190301
DTEND;VALUE=DATE:20190302
DTSTAMP:20260421T050144
CREATED:20181123T213053Z
LAST-MODIFIED:20181123T213053Z
UID:4751-1551398400-1551484799@redvers.ca
SUMMARY:Curling Club - Farmer's Bonspiel
DESCRIPTION:Contact Robert (306)452-7769 or Brad (306)452-8229 for more information.  \nPlease see attachment for the entire Redvers Curling Club Bonspiel Schedule!
URL:https://redvers.ca/calendar-event/curling-club-farmers-bonspiel/
CATEGORIES:Redvers Curling Club
END:VEVENT
BEGIN:VEVENT
DTSTART;VALUE=DATE:20190208
DTEND;VALUE=DATE:20190209
DTSTAMP:20260421T050144
CREATED:20181123T212911Z
LAST-MODIFIED:20181123T212911Z
UID:4748-1549584000-1549670399@redvers.ca
SUMMARY:Curling Club - Cash Spiel
DESCRIPTION:Contact Dawn (306)452-7208 for more information.  \nPlease see attachment for the entire Redvers Curling Club Bonspiel Schedule!
URL:https://redvers.ca/calendar-event/curling-club-cash-spiel/
CATEGORIES:Redvers Curling Club
END:VEVENT
BEGIN:VEVENT
DTSTART;VALUE=DATE:20190129
DTEND;VALUE=DATE:20190130
DTSTAMP:20260421T050144
CREATED:20181123T212744Z
LAST-MODIFIED:20181123T212744Z
UID:4746-1548720000-1548806399@redvers.ca
SUMMARY:Curling Club - Annual Jam Can/14 & Under Bonspiel
DESCRIPTION:Contact Cheryl (306)452-7223 for more information.  \nPlease see attachment for the entire Redvers Curling Club Bonspiel Schedule!
URL:https://redvers.ca/calendar-event/curling-club-annual-jam-can-14-under-bonspiel/
CATEGORIES:Redvers Curling Club
END:VEVENT
BEGIN:VEVENT
DTSTART;VALUE=DATE:20190118
DTEND;VALUE=DATE:20190119
DTSTAMP:20260421T050144
CREATED:20181123T211252Z
LAST-MODIFIED:20181123T211252Z
UID:4743-1547769600-1547855999@redvers.ca
SUMMARY:Curling Club - Redvers Fire Department Bonspiel
DESCRIPTION:Contact Brad (306)452-8229 or Robert (306)452-7769 for more information.  \nPlease see attachment for the entire Redvers Curling Club Bonspiel Schedule!
URL:https://redvers.ca/calendar-event/curling-club-redvers-fire-department-bonspiel/
CATEGORIES:Redvers Curling Club
END:VEVENT
BEGIN:VEVENT
DTSTART;VALUE=DATE:20190111
DTEND;VALUE=DATE:20190112
DTSTAMP:20260421T050144
CREATED:20181123T211051Z
LAST-MODIFIED:20181123T211051Z
UID:4740-1547164800-1547251199@redvers.ca
SUMMARY:Curling Club - "Retro" Curling Bonspiel
DESCRIPTION:Contact Derek (306)452-7858 or Chantal (306)840-7262 for more information.  \nPlease see attachment for the entire Redvers Curling Club Bonspiel Schedule!
URL:https://redvers.ca/calendar-event/curling-club-retro-curling-bonspiel/
CATEGORIES:Redvers Curling Club
END:VEVENT
BEGIN:VEVENT
DTSTART;VALUE=DATE:20181226
DTEND;VALUE=DATE:20181227
DTSTAMP:20260421T050144
CREATED:20181123T210854Z
LAST-MODIFIED:20181123T210854Z
UID:4738-1545782400-1545868799@redvers.ca
SUMMARY:Curling Club - Annual Boxing Day Spiel
DESCRIPTION:Contact Derek (306)452-7858 or Kyndal (306)452-8400 for more information.  \nPlease see attachment for the entire Redvers Curling Club Bonspiel Schedule!
URL:https://redvers.ca/calendar-event/curling-club-annual-boxing-day-spiel/
CATEGORIES:Redvers Curling Club
END:VEVENT
BEGIN:VEVENT
DTSTART;VALUE=DATE:20181214
DTEND;VALUE=DATE:20181215
DTSTAMP:20260421T050144
CREATED:20181123T210650Z
LAST-MODIFIED:20181123T210650Z
UID:4735-1544745600-1544831999@redvers.ca
SUMMARY:Curling Club - 2 Person Red Eye Spiel
DESCRIPTION:Contact Natasha (306)452-7776 or Chantal (306)840-7262 for more information.  \nPlease see attachment for the entire Redvers Curling Club Bonspiel Schedule!
URL:https://redvers.ca/calendar-event/curling-club-2-person-red-eye-spiel/
CATEGORIES:Redvers Curling Club
END:VEVENT
BEGIN:VEVENT
DTSTART;TZID=America/Regina:20180323T090000
DTEND;TZID=America/Regina:20180324T170000
DTSTAMP:20260421T050144
CREATED:20171206T160812Z
LAST-MODIFIED:20171206T160812Z
UID:3616-1521795600-1521910800@redvers.ca
SUMMARY:Curling Club Members Spiel
DESCRIPTION:
URL:https://redvers.ca/calendar-event/curling-club-members-spiel/
CATEGORIES:Redvers Curling Club
END:VEVENT
BEGIN:VEVENT
DTSTART;TZID=America/Regina:20180316T090000
DTEND;TZID=America/Regina:20180317T170000
DTSTAMP:20260421T050144
CREATED:20171206T160742Z
LAST-MODIFIED:20171206T160742Z
UID:3614-1521190800-1521306000@redvers.ca
SUMMARY:Oil Persons Bonspiel
DESCRIPTION:Details to Follow
URL:https://redvers.ca/calendar-event/oil-persons-bonspiel/
CATEGORIES:Redvers Curling Club
END:VEVENT
BEGIN:VEVENT
DTSTART;TZID=America/Regina:20180223T090000
DTEND;TZID=America/Regina:20180224T170000
DTSTAMP:20260421T050144
CREATED:20171206T160710Z
LAST-MODIFIED:20171206T160710Z
UID:3612-1519376400-1519491600@redvers.ca
SUMMARY:Advantage Co-op Bonspiel
DESCRIPTION:Details to follow
URL:https://redvers.ca/calendar-event/advantage-co-op-bonspiel/
CATEGORIES:Redvers Curling Club
END:VEVENT
BEGIN:VEVENT
DTSTART;TZID=America/Regina:20180209T090000
DTEND;TZID=America/Regina:20180210T170000
DTSTAMP:20260421T050144
CREATED:20171206T160618Z
LAST-MODIFIED:20171206T160618Z
UID:3610-1518166800-1518282000@redvers.ca
SUMMARY:Farmer's Bonspiel
DESCRIPTION:Contact Chantal at 840-7262 or Brad at 452-8229
URL:https://redvers.ca/calendar-event/farmers-bonspiel-2/
CATEGORIES:Redvers Curling Club
END:VEVENT
BEGIN:VEVENT
DTSTART;TZID=America/Regina:20180131T090000
DTEND;TZID=America/Regina:20180131T170000
DTSTAMP:20260421T050144
CREATED:20171206T160248Z
LAST-MODIFIED:20171206T160248Z
UID:3608-1517389200-1517418000@redvers.ca
SUMMARY:Annual Jam Can Bonspiel
DESCRIPTION:14 & Under. Contact Cheryl at 452-7223
URL:https://redvers.ca/calendar-event/annual-jam-can-bonspiel/
CATEGORIES:Redvers Curling Club
END:VEVENT
BEGIN:VEVENT
DTSTART;TZID=America/Regina:20180119T090000
DTEND;TZID=America/Regina:20180120T170000
DTSTAMP:20260421T050144
CREATED:20171206T155104Z
LAST-MODIFIED:20171228T212035Z
UID:3606-1516352400-1516467600@redvers.ca
SUMMARY:Fire Department Bonspiel
DESCRIPTION:Contact Brad at 452-8229
URL:https://redvers.ca/calendar-event/fire-department-bonspiel/
CATEGORIES:Redvers Curling Club
END:VEVENT
END:VCALENDAR