BEGIN:VCALENDAR
VERSION:2.0
PRODID:-//Redvers, Saskatchewan - ECPv6.15.20//NONSGML v1.0//EN
CALSCALE:GREGORIAN
METHOD:PUBLISH
X-ORIGINAL-URL:https://redvers.ca
X-WR-CALDESC:Events for Redvers, Saskatchewan
REFRESH-INTERVAL;VALUE=DURATION:PT1H
X-Robots-Tag:noindex
X-PUBLISHED-TTL:PT1H
BEGIN:VTIMEZONE
TZID:America/Regina
BEGIN:STANDARD
TZOFFSETFROM:-0600
TZOFFSETTO:-0600
TZNAME:CST
DTSTART:20240101T000000
END:STANDARD
END:VTIMEZONE
BEGIN:VEVENT
DTSTART;TZID=America/Regina:20250722T160000
DTEND;TZID=America/Regina:20250722T190000
DTSTAMP:20260419T154713
CREATED:20250103T165441Z
LAST-MODIFIED:20250103T165441Z
UID:16622-1753200000-1753210800@redvers.ca
SUMMARY:Transfer Station
DESCRIPTION:
URL:https://redvers.ca/calendar-event/transfer-station-5-2025-07-22/
CATEGORIES:Town of Redvers
END:VEVENT
BEGIN:VEVENT
DTSTART;TZID=America/Regina:20250723T180000
DTEND;TZID=America/Regina:20250723T210000
DTSTAMP:20260419T154713
CREATED:20250103T164254Z
LAST-MODIFIED:20250103T164254Z
UID:16551-1753293600-1753304400@redvers.ca
SUMMARY:Council Meeting
DESCRIPTION:
URL:https://redvers.ca/calendar-event/council-meeting-41/
LOCATION:Redvers Town Office
CATEGORIES:Town of Redvers
END:VEVENT
BEGIN:VEVENT
DTSTART;TZID=America/Regina:20250724T160000
DTEND;TZID=America/Regina:20250724T190000
DTSTAMP:20260419T154713
CREATED:20250103T165441Z
LAST-MODIFIED:20250103T165441Z
UID:16623-1753372800-1753383600@redvers.ca
SUMMARY:Transfer Station
DESCRIPTION:
URL:https://redvers.ca/calendar-event/transfer-station-5-2025-07-24/
CATEGORIES:Town of Redvers
END:VEVENT
BEGIN:VEVENT
DTSTART;VALUE=DATE:20250725
DTEND;VALUE=DATE:20250726
DTSTAMP:20260419T154713
CREATED:20241230T171118Z
LAST-MODIFIED:20241230T171118Z
UID:16349-1753401600-1753487999@redvers.ca
SUMMARY:Garbage Collection
DESCRIPTION:Carts must be out by 7a.m. on collection days.
URL:https://redvers.ca/calendar-event/garbage-collection-5-2025-07-25/
CATEGORIES:Town of Redvers
END:VEVENT
BEGIN:VEVENT
DTSTART;TZID=America/Regina:20250727T120000
DTEND;TZID=America/Regina:20250727T160000
DTSTAMP:20260419T154713
CREATED:20250103T165227Z
LAST-MODIFIED:20250106T193153Z
UID:16668-1753617600-1753632000@redvers.ca
SUMMARY:Transfer Station
DESCRIPTION:
URL:https://redvers.ca/calendar-event/transfer-station-4-2025-07-27/
CATEGORIES:Town of Redvers
END:VEVENT
BEGIN:VEVENT
DTSTART;TZID=America/Regina:20250729T160000
DTEND;TZID=America/Regina:20250729T190000
DTSTAMP:20260419T154713
CREATED:20250103T165441Z
LAST-MODIFIED:20250103T165441Z
UID:16624-1753804800-1753815600@redvers.ca
SUMMARY:Transfer Station
DESCRIPTION:
URL:https://redvers.ca/calendar-event/transfer-station-5-2025-07-29/
CATEGORIES:Town of Redvers
END:VEVENT
BEGIN:VEVENT
DTSTART;TZID=America/Regina:20250731T160000
DTEND;TZID=America/Regina:20250731T190000
DTSTAMP:20260419T154713
CREATED:20250103T165441Z
LAST-MODIFIED:20250103T165441Z
UID:16625-1753977600-1753988400@redvers.ca
SUMMARY:Transfer Station
DESCRIPTION:
URL:https://redvers.ca/calendar-event/transfer-station-5-2025-07-31/
CATEGORIES:Town of Redvers
END:VEVENT
BEGIN:VEVENT
DTSTART;TZID=America/Regina:20250803T120000
DTEND;TZID=America/Regina:20250803T160000
DTSTAMP:20260419T154713
CREATED:20250103T165227Z
LAST-MODIFIED:20250106T193154Z
UID:16669-1754222400-1754236800@redvers.ca
SUMMARY:Transfer Station
DESCRIPTION:
URL:https://redvers.ca/calendar-event/transfer-station-4-2025-08-03/
CATEGORIES:Town of Redvers
END:VEVENT
BEGIN:VEVENT
DTSTART;VALUE=DATE:20250804
DTEND;VALUE=DATE:20250805
DTSTAMP:20260419T154713
CREATED:20250103T164333Z
LAST-MODIFIED:20250103T164333Z
UID:16553-1754265600-1754351999@redvers.ca
SUMMARY:STAT
DESCRIPTION:
URL:https://redvers.ca/calendar-event/stat-11/
LOCATION:Redvers Town Office
CATEGORIES:Town of Redvers
END:VEVENT
BEGIN:VEVENT
DTSTART;TZID=America/Regina:20250805T160000
DTEND;TZID=America/Regina:20250805T190000
DTSTAMP:20260419T154713
CREATED:20250103T165441Z
LAST-MODIFIED:20250103T165441Z
UID:16626-1754409600-1754420400@redvers.ca
SUMMARY:Transfer Station
DESCRIPTION:
URL:https://redvers.ca/calendar-event/transfer-station-5-2025-08-05/
CATEGORIES:Town of Redvers
END:VEVENT
BEGIN:VEVENT
DTSTART;TZID=America/Regina:20250807T160000
DTEND;TZID=America/Regina:20250807T190000
DTSTAMP:20260419T154713
CREATED:20250103T165441Z
LAST-MODIFIED:20250103T165441Z
UID:16627-1754582400-1754593200@redvers.ca
SUMMARY:Transfer Station
DESCRIPTION:
URL:https://redvers.ca/calendar-event/transfer-station-5-2025-08-07/
CATEGORIES:Town of Redvers
END:VEVENT
BEGIN:VEVENT
DTSTART;VALUE=DATE:20250808
DTEND;VALUE=DATE:20250809
DTSTAMP:20260419T154713
CREATED:20241230T171118Z
LAST-MODIFIED:20241230T171118Z
UID:16350-1754611200-1754697599@redvers.ca
SUMMARY:Garbage Collection
DESCRIPTION:Carts must be out by 7a.m. on collection days.
URL:https://redvers.ca/calendar-event/garbage-collection-5-2025-08-08/
CATEGORIES:Town of Redvers
END:VEVENT
BEGIN:VEVENT
DTSTART;TZID=America/Regina:20250810T120000
DTEND;TZID=America/Regina:20250810T160000
DTSTAMP:20260419T154713
CREATED:20250103T165227Z
LAST-MODIFIED:20250106T193154Z
UID:16670-1754827200-1754841600@redvers.ca
SUMMARY:Transfer Station
DESCRIPTION:
URL:https://redvers.ca/calendar-event/transfer-station-4-2025-08-10/
CATEGORIES:Town of Redvers
END:VEVENT
BEGIN:VEVENT
DTSTART;TZID=America/Regina:20250812T160000
DTEND;TZID=America/Regina:20250812T190000
DTSTAMP:20260419T154713
CREATED:20250103T165441Z
LAST-MODIFIED:20250103T165441Z
UID:16628-1755014400-1755025200@redvers.ca
SUMMARY:Transfer Station
DESCRIPTION:
URL:https://redvers.ca/calendar-event/transfer-station-5-2025-08-12/
CATEGORIES:Town of Redvers
END:VEVENT
BEGIN:VEVENT
DTSTART;TZID=America/Regina:20250814T160000
DTEND;TZID=America/Regina:20250814T190000
DTSTAMP:20260419T154713
CREATED:20250103T165441Z
LAST-MODIFIED:20250103T165441Z
UID:16629-1755187200-1755198000@redvers.ca
SUMMARY:Transfer Station
DESCRIPTION:
URL:https://redvers.ca/calendar-event/transfer-station-5-2025-08-14/
CATEGORIES:Town of Redvers
END:VEVENT
BEGIN:VEVENT
DTSTART;TZID=America/Regina:20250817T120000
DTEND;TZID=America/Regina:20250817T160000
DTSTAMP:20260419T154713
CREATED:20250103T165227Z
LAST-MODIFIED:20250106T193154Z
UID:16671-1755432000-1755446400@redvers.ca
SUMMARY:Transfer Station
DESCRIPTION:
URL:https://redvers.ca/calendar-event/transfer-station-4-2025-08-17/
CATEGORIES:Town of Redvers
END:VEVENT
BEGIN:VEVENT
DTSTART;TZID=America/Regina:20250819T160000
DTEND;TZID=America/Regina:20250819T190000
DTSTAMP:20260419T154713
CREATED:20250103T165441Z
LAST-MODIFIED:20250103T165441Z
UID:16630-1755619200-1755630000@redvers.ca
SUMMARY:Transfer Station
DESCRIPTION:
URL:https://redvers.ca/calendar-event/transfer-station-5-2025-08-19/
CATEGORIES:Town of Redvers
END:VEVENT
BEGIN:VEVENT
DTSTART;TZID=America/Regina:20250820T180000
DTEND;TZID=America/Regina:20250820T210000
DTSTAMP:20260419T154713
CREATED:20250103T164420Z
LAST-MODIFIED:20250103T164420Z
UID:16555-1755712800-1755723600@redvers.ca
SUMMARY:Council Meeting
DESCRIPTION:
URL:https://redvers.ca/calendar-event/council-meeting-45/
LOCATION:Redvers Town Office
CATEGORIES:Town of Redvers
END:VEVENT
BEGIN:VEVENT
DTSTART;TZID=America/Regina:20250821T160000
DTEND;TZID=America/Regina:20250821T190000
DTSTAMP:20260419T154713
CREATED:20250103T165441Z
LAST-MODIFIED:20250103T165441Z
UID:16631-1755792000-1755802800@redvers.ca
SUMMARY:Transfer Station
DESCRIPTION:
URL:https://redvers.ca/calendar-event/transfer-station-5-2025-08-21/
CATEGORIES:Town of Redvers
END:VEVENT
BEGIN:VEVENT
DTSTART;VALUE=DATE:20250822
DTEND;VALUE=DATE:20250823
DTSTAMP:20260419T154713
CREATED:20241230T171118Z
LAST-MODIFIED:20241230T171118Z
UID:16351-1755820800-1755907199@redvers.ca
SUMMARY:Garbage Collection
DESCRIPTION:Carts must be out by 7a.m. on collection days.
URL:https://redvers.ca/calendar-event/garbage-collection-5-2025-08-22/
CATEGORIES:Town of Redvers
END:VEVENT
BEGIN:VEVENT
DTSTART;TZID=America/Regina:20250824T120000
DTEND;TZID=America/Regina:20250824T160000
DTSTAMP:20260419T154713
CREATED:20250103T165227Z
LAST-MODIFIED:20250106T193154Z
UID:16672-1756036800-1756051200@redvers.ca
SUMMARY:Transfer Station
DESCRIPTION:
URL:https://redvers.ca/calendar-event/transfer-station-4-2025-08-24/
CATEGORIES:Town of Redvers
END:VEVENT
BEGIN:VEVENT
DTSTART;TZID=America/Regina:20250826T160000
DTEND;TZID=America/Regina:20250826T190000
DTSTAMP:20260419T154713
CREATED:20250103T165441Z
LAST-MODIFIED:20250103T165441Z
UID:16632-1756224000-1756234800@redvers.ca
SUMMARY:Transfer Station
DESCRIPTION:
URL:https://redvers.ca/calendar-event/transfer-station-5-2025-08-26/
CATEGORIES:Town of Redvers
END:VEVENT
BEGIN:VEVENT
DTSTART;TZID=America/Regina:20250828T160000
DTEND;TZID=America/Regina:20250828T190000
DTSTAMP:20260419T154713
CREATED:20250103T165441Z
LAST-MODIFIED:20250103T165441Z
UID:16633-1756396800-1756407600@redvers.ca
SUMMARY:Transfer Station
DESCRIPTION:
URL:https://redvers.ca/calendar-event/transfer-station-5-2025-08-28/
CATEGORIES:Town of Redvers
END:VEVENT
BEGIN:VEVENT
DTSTART;TZID=America/Regina:20250831T120000
DTEND;TZID=America/Regina:20250831T160000
DTSTAMP:20260419T154713
CREATED:20250103T165227Z
LAST-MODIFIED:20250106T193154Z
UID:16673-1756641600-1756656000@redvers.ca
SUMMARY:Transfer Station
DESCRIPTION:
URL:https://redvers.ca/calendar-event/transfer-station-4-2025-08-31/
CATEGORIES:Town of Redvers
END:VEVENT
BEGIN:VEVENT
DTSTART;VALUE=DATE:20250901
DTEND;VALUE=DATE:20250902
DTSTAMP:20260419T154713
CREATED:20250103T164455Z
LAST-MODIFIED:20250103T164455Z
UID:16557-1756684800-1756771199@redvers.ca
SUMMARY:STAT
DESCRIPTION:
URL:https://redvers.ca/calendar-event/stat-12/
LOCATION:Redvers Town Office
CATEGORIES:Town of Redvers
END:VEVENT
BEGIN:VEVENT
DTSTART;TZID=America/Regina:20250902T160000
DTEND;TZID=America/Regina:20250902T190000
DTSTAMP:20260419T154713
CREATED:20250103T165441Z
LAST-MODIFIED:20250103T165441Z
UID:16634-1756828800-1756839600@redvers.ca
SUMMARY:Transfer Station
DESCRIPTION:
URL:https://redvers.ca/calendar-event/transfer-station-5-2025-09-02/
CATEGORIES:Town of Redvers
END:VEVENT
BEGIN:VEVENT
DTSTART;TZID=America/Regina:20250904T160000
DTEND;TZID=America/Regina:20250904T190000
DTSTAMP:20260419T154713
CREATED:20250103T165441Z
LAST-MODIFIED:20250103T165441Z
UID:16635-1757001600-1757012400@redvers.ca
SUMMARY:Transfer Station
DESCRIPTION:
URL:https://redvers.ca/calendar-event/transfer-station-5-2025-09-04/
CATEGORIES:Town of Redvers
END:VEVENT
BEGIN:VEVENT
DTSTART;VALUE=DATE:20250905
DTEND;VALUE=DATE:20250906
DTSTAMP:20260419T154713
CREATED:20241230T171118Z
LAST-MODIFIED:20241230T171118Z
UID:16352-1757030400-1757116799@redvers.ca
SUMMARY:Garbage Collection
DESCRIPTION:Carts must be out by 7a.m. on collection days.
URL:https://redvers.ca/calendar-event/garbage-collection-5-2025-09-05/
CATEGORIES:Town of Redvers
END:VEVENT
BEGIN:VEVENT
DTSTART;TZID=America/Regina:20250907T120000
DTEND;TZID=America/Regina:20250907T160000
DTSTAMP:20260419T154713
CREATED:20250103T165227Z
LAST-MODIFIED:20250106T193154Z
UID:16674-1757246400-1757260800@redvers.ca
SUMMARY:Transfer Station
DESCRIPTION:
URL:https://redvers.ca/calendar-event/transfer-station-4-2025-09-07/
CATEGORIES:Town of Redvers
END:VEVENT
BEGIN:VEVENT
DTSTART;TZID=America/Regina:20250909T160000
DTEND;TZID=America/Regina:20250909T190000
DTSTAMP:20260419T154713
CREATED:20250103T165441Z
LAST-MODIFIED:20250103T165441Z
UID:16636-1757433600-1757444400@redvers.ca
SUMMARY:Transfer Station
DESCRIPTION:
URL:https://redvers.ca/calendar-event/transfer-station-5-2025-09-09/
CATEGORIES:Town of Redvers
END:VEVENT
END:VCALENDAR