BEGIN:VCALENDAR
VERSION:2.0
PRODID:-//Redvers, Saskatchewan - ECPv6.15.20//NONSGML v1.0//EN
CALSCALE:GREGORIAN
METHOD:PUBLISH
X-ORIGINAL-URL:https://redvers.ca
X-WR-CALDESC:Events for Redvers, Saskatchewan
REFRESH-INTERVAL;VALUE=DURATION:PT1H
X-Robots-Tag:noindex
X-PUBLISHED-TTL:PT1H
BEGIN:VTIMEZONE
TZID:America/Regina
BEGIN:STANDARD
TZOFFSETFROM:-0600
TZOFFSETTO:-0600
TZNAME:CST
DTSTART:20240101T000000
END:STANDARD
END:VTIMEZONE
BEGIN:VEVENT
DTSTART;VALUE=DATE:20250418
DTEND;VALUE=DATE:20250419
DTSTAMP:20260421T074351
CREATED:20241230T171118Z
LAST-MODIFIED:20241230T171118Z
UID:16341-1744934400-1745020799@redvers.ca
SUMMARY:Garbage Collection
DESCRIPTION:Carts must be out by 7a.m. on collection days.
URL:https://redvers.ca/calendar-event/garbage-collection-5-2025-04-18/
CATEGORIES:Town of Redvers
END:VEVENT
BEGIN:VEVENT
DTSTART;TZID=America/Regina:20250420T120000
DTEND;TZID=America/Regina:20250420T160000
DTSTAMP:20260421T074351
CREATED:20250103T165227Z
LAST-MODIFIED:20250106T193152Z
UID:16590-1745150400-1745164800@redvers.ca
SUMMARY:Transfer Station
DESCRIPTION:
URL:https://redvers.ca/calendar-event/transfer-station-4-2025-04-20/
CATEGORIES:Town of Redvers
END:VEVENT
BEGIN:VEVENT
DTSTART;TZID=America/Regina:20250427T120000
DTEND;TZID=America/Regina:20250427T160000
DTSTAMP:20260421T074351
CREATED:20250103T165227Z
LAST-MODIFIED:20250106T193152Z
UID:16591-1745755200-1745769600@redvers.ca
SUMMARY:Transfer Station
DESCRIPTION:
URL:https://redvers.ca/calendar-event/transfer-station-4-2025-04-27/
CATEGORIES:Town of Redvers
END:VEVENT
BEGIN:VEVENT
DTSTART;TZID=America/Regina:20250501T160000
DTEND;TZID=America/Regina:20250501T190000
DTSTAMP:20260421T074351
CREATED:20250103T165441Z
LAST-MODIFIED:20250103T165441Z
UID:16598-1746115200-1746126000@redvers.ca
SUMMARY:Transfer Station
DESCRIPTION:
URL:https://redvers.ca/calendar-event/transfer-station-5/
CATEGORIES:Town of Redvers
END:VEVENT
BEGIN:VEVENT
DTSTART;VALUE=DATE:20250502
DTEND;VALUE=DATE:20250503
DTSTAMP:20260421T074351
CREATED:20241230T171118Z
LAST-MODIFIED:20241230T171118Z
UID:16342-1746144000-1746230399@redvers.ca
SUMMARY:Garbage Collection
DESCRIPTION:Carts must be out by 7a.m. on collection days.
URL:https://redvers.ca/calendar-event/garbage-collection-5-2025-05-02/
CATEGORIES:Town of Redvers
END:VEVENT
BEGIN:VEVENT
DTSTART;TZID=America/Regina:20250504T120000
DTEND;TZID=America/Regina:20250504T160000
DTSTAMP:20260421T074351
CREATED:20250103T165227Z
LAST-MODIFIED:20250106T193152Z
UID:16592-1746360000-1746374400@redvers.ca
SUMMARY:Transfer Station
DESCRIPTION:
URL:https://redvers.ca/calendar-event/transfer-station-4-2025-05-04/
CATEGORIES:Town of Redvers
END:VEVENT
BEGIN:VEVENT
DTSTART;TZID=America/Regina:20250506T160000
DTEND;TZID=America/Regina:20250506T190000
DTSTAMP:20260421T074351
CREATED:20250103T165441Z
LAST-MODIFIED:20250103T165441Z
UID:16599-1746547200-1746558000@redvers.ca
SUMMARY:Transfer Station
DESCRIPTION:
URL:https://redvers.ca/calendar-event/transfer-station-5-2025-05-06/
CATEGORIES:Town of Redvers
END:VEVENT
BEGIN:VEVENT
DTSTART;TZID=America/Regina:20250508T160000
DTEND;TZID=America/Regina:20250508T190000
DTSTAMP:20260421T074351
CREATED:20250103T165441Z
LAST-MODIFIED:20250103T165441Z
UID:16600-1746720000-1746730800@redvers.ca
SUMMARY:Transfer Station
DESCRIPTION:
URL:https://redvers.ca/calendar-event/transfer-station-5-2025-05-08/
CATEGORIES:Town of Redvers
END:VEVENT
BEGIN:VEVENT
DTSTART;TZID=America/Regina:20250511T120000
DTEND;TZID=America/Regina:20250511T160000
DTSTAMP:20260421T074351
CREATED:20250103T165227Z
LAST-MODIFIED:20250106T193152Z
UID:16593-1746964800-1746979200@redvers.ca
SUMMARY:Transfer Station
DESCRIPTION:
URL:https://redvers.ca/calendar-event/transfer-station-4-2025-05-11/
CATEGORIES:Town of Redvers
END:VEVENT
BEGIN:VEVENT
DTSTART;TZID=America/Regina:20250513T160000
DTEND;TZID=America/Regina:20250513T190000
DTSTAMP:20260421T074351
CREATED:20250103T165441Z
LAST-MODIFIED:20250103T165441Z
UID:16601-1747152000-1747162800@redvers.ca
SUMMARY:Transfer Station
DESCRIPTION:
URL:https://redvers.ca/calendar-event/transfer-station-5-2025-05-13/
CATEGORIES:Town of Redvers
END:VEVENT
BEGIN:VEVENT
DTSTART;TZID=America/Regina:20250515T160000
DTEND;TZID=America/Regina:20250515T190000
DTSTAMP:20260421T074351
CREATED:20250103T165441Z
LAST-MODIFIED:20250103T165441Z
UID:16602-1747324800-1747335600@redvers.ca
SUMMARY:Transfer Station
DESCRIPTION:
URL:https://redvers.ca/calendar-event/transfer-station-5-2025-05-15/
CATEGORIES:Town of Redvers
END:VEVENT
BEGIN:VEVENT
DTSTART;VALUE=DATE:20250516
DTEND;VALUE=DATE:20250517
DTSTAMP:20260421T074351
CREATED:20241230T171118Z
LAST-MODIFIED:20241230T171118Z
UID:16343-1747353600-1747439999@redvers.ca
SUMMARY:Garbage Collection
DESCRIPTION:Carts must be out by 7a.m. on collection days.
URL:https://redvers.ca/calendar-event/garbage-collection-5-2025-05-16/
CATEGORIES:Town of Redvers
END:VEVENT
BEGIN:VEVENT
DTSTART;TZID=America/Regina:20250518T120000
DTEND;TZID=America/Regina:20250518T160000
DTSTAMP:20260421T074351
CREATED:20250103T165227Z
LAST-MODIFIED:20250106T193153Z
UID:16594-1747569600-1747584000@redvers.ca
SUMMARY:Transfer Station
DESCRIPTION:
URL:https://redvers.ca/calendar-event/transfer-station-4-2025-05-18/
CATEGORIES:Town of Redvers
END:VEVENT
BEGIN:VEVENT
DTSTART;VALUE=DATE:20250519
DTEND;VALUE=DATE:20250520
DTSTAMP:20260421T074351
CREATED:20250103T163843Z
LAST-MODIFIED:20250103T163843Z
UID:16543-1747612800-1747699199@redvers.ca
SUMMARY:STAT
DESCRIPTION:
URL:https://redvers.ca/calendar-event/stat-9/
LOCATION:Redvers Town Office
CATEGORIES:Town of Redvers
END:VEVENT
BEGIN:VEVENT
DTSTART;TZID=America/Regina:20250520T160000
DTEND;TZID=America/Regina:20250520T190000
DTSTAMP:20260421T074351
CREATED:20250103T165441Z
LAST-MODIFIED:20250103T165441Z
UID:16603-1747756800-1747767600@redvers.ca
SUMMARY:Transfer Station
DESCRIPTION:
URL:https://redvers.ca/calendar-event/transfer-station-5-2025-05-20/
CATEGORIES:Town of Redvers
END:VEVENT
BEGIN:VEVENT
DTSTART;TZID=America/Regina:20250521T180000
DTEND;TZID=America/Regina:20250521T210000
DTSTAMP:20260421T074351
CREATED:20250103T163915Z
LAST-MODIFIED:20250103T163915Z
UID:16545-1747850400-1747861200@redvers.ca
SUMMARY:Council Meeting
DESCRIPTION:
URL:https://redvers.ca/calendar-event/council-meeting-37/
LOCATION:Redvers Town Office
CATEGORIES:Town of Redvers
END:VEVENT
BEGIN:VEVENT
DTSTART;TZID=America/Regina:20250522T160000
DTEND;TZID=America/Regina:20250522T190000
DTSTAMP:20260421T074351
CREATED:20250103T165441Z
LAST-MODIFIED:20250103T165441Z
UID:16604-1747929600-1747940400@redvers.ca
SUMMARY:Transfer Station
DESCRIPTION:
URL:https://redvers.ca/calendar-event/transfer-station-5-2025-05-22/
CATEGORIES:Town of Redvers
END:VEVENT
BEGIN:VEVENT
DTSTART;TZID=America/Regina:20250525T120000
DTEND;TZID=America/Regina:20250525T160000
DTSTAMP:20260421T074351
CREATED:20250103T165227Z
LAST-MODIFIED:20250106T193153Z
UID:16595-1748174400-1748188800@redvers.ca
SUMMARY:Transfer Station
DESCRIPTION:
URL:https://redvers.ca/calendar-event/transfer-station-4-2025-05-25/
CATEGORIES:Town of Redvers
END:VEVENT
BEGIN:VEVENT
DTSTART;TZID=America/Regina:20250527T160000
DTEND;TZID=America/Regina:20250527T190000
DTSTAMP:20260421T074351
CREATED:20250103T165441Z
LAST-MODIFIED:20250103T165441Z
UID:16605-1748361600-1748372400@redvers.ca
SUMMARY:Transfer Station
DESCRIPTION:
URL:https://redvers.ca/calendar-event/transfer-station-5-2025-05-27/
CATEGORIES:Town of Redvers
END:VEVENT
BEGIN:VEVENT
DTSTART;TZID=America/Regina:20250529T160000
DTEND;TZID=America/Regina:20250529T190000
DTSTAMP:20260421T074351
CREATED:20250103T165441Z
LAST-MODIFIED:20250103T165441Z
UID:16606-1748534400-1748545200@redvers.ca
SUMMARY:Transfer Station
DESCRIPTION:
URL:https://redvers.ca/calendar-event/transfer-station-5-2025-05-29/
CATEGORIES:Town of Redvers
END:VEVENT
BEGIN:VEVENT
DTSTART;VALUE=DATE:20250530
DTEND;VALUE=DATE:20250531
DTSTAMP:20260421T074351
CREATED:20241230T171118Z
LAST-MODIFIED:20241230T171118Z
UID:16344-1748563200-1748649599@redvers.ca
SUMMARY:Garbage Collection
DESCRIPTION:Carts must be out by 7a.m. on collection days.
URL:https://redvers.ca/calendar-event/garbage-collection-5-2025-05-30/
CATEGORIES:Town of Redvers
END:VEVENT
BEGIN:VEVENT
DTSTART;TZID=America/Regina:20250601T120000
DTEND;TZID=America/Regina:20250601T160000
DTSTAMP:20260421T074351
CREATED:20250103T165227Z
LAST-MODIFIED:20250106T193153Z
UID:16596-1748779200-1748793600@redvers.ca
SUMMARY:Transfer Station
DESCRIPTION:
URL:https://redvers.ca/calendar-event/transfer-station-4-2025-06-01/
CATEGORIES:Town of Redvers
END:VEVENT
BEGIN:VEVENT
DTSTART;TZID=America/Regina:20250603T160000
DTEND;TZID=America/Regina:20250603T190000
DTSTAMP:20260421T074351
CREATED:20250103T165441Z
LAST-MODIFIED:20250103T165441Z
UID:16607-1748966400-1748977200@redvers.ca
SUMMARY:Transfer Station
DESCRIPTION:
URL:https://redvers.ca/calendar-event/transfer-station-5-2025-06-03/
CATEGORIES:Town of Redvers
END:VEVENT
BEGIN:VEVENT
DTSTART;TZID=America/Regina:20250605T160000
DTEND;TZID=America/Regina:20250605T190000
DTSTAMP:20260421T074351
CREATED:20250103T165441Z
LAST-MODIFIED:20250103T165441Z
UID:16608-1749139200-1749150000@redvers.ca
SUMMARY:Transfer Station
DESCRIPTION:
URL:https://redvers.ca/calendar-event/transfer-station-5-2025-06-05/
CATEGORIES:Town of Redvers
END:VEVENT
BEGIN:VEVENT
DTSTART;TZID=America/Regina:20250608T120000
DTEND;TZID=America/Regina:20250608T160000
DTSTAMP:20260421T074351
CREATED:20250103T165227Z
LAST-MODIFIED:20250106T193153Z
UID:16661-1749384000-1749398400@redvers.ca
SUMMARY:Transfer Station
DESCRIPTION:
URL:https://redvers.ca/calendar-event/transfer-station-4-2025-06-08-2/
CATEGORIES:Town of Redvers
END:VEVENT
BEGIN:VEVENT
DTSTART;TZID=America/Regina:20250610T160000
DTEND;TZID=America/Regina:20250610T190000
DTSTAMP:20260421T074351
CREATED:20250103T165441Z
LAST-MODIFIED:20250103T165441Z
UID:16610-1749571200-1749582000@redvers.ca
SUMMARY:Transfer Station
DESCRIPTION:
URL:https://redvers.ca/calendar-event/transfer-station-5-2025-06-10/
CATEGORIES:Town of Redvers
END:VEVENT
BEGIN:VEVENT
DTSTART;TZID=America/Regina:20250612T160000
DTEND;TZID=America/Regina:20250612T190000
DTSTAMP:20260421T074351
CREATED:20250103T165441Z
LAST-MODIFIED:20250103T165441Z
UID:16611-1749744000-1749754800@redvers.ca
SUMMARY:Transfer Station
DESCRIPTION:
URL:https://redvers.ca/calendar-event/transfer-station-5-2025-06-12/
CATEGORIES:Town of Redvers
END:VEVENT
BEGIN:VEVENT
DTSTART;VALUE=DATE:20250613
DTEND;VALUE=DATE:20250614
DTSTAMP:20260421T074351
CREATED:20241230T171118Z
LAST-MODIFIED:20241230T171118Z
UID:16346-1749772800-1749859199@redvers.ca
SUMMARY:Garbage Collection
DESCRIPTION:Carts must be out by 7a.m. on collection days.
URL:https://redvers.ca/calendar-event/garbage-collection-5-2025-06-13/
CATEGORIES:Town of Redvers
END:VEVENT
BEGIN:VEVENT
DTSTART;TZID=America/Regina:20250615T120000
DTEND;TZID=America/Regina:20250615T160000
DTSTAMP:20260421T074351
CREATED:20250103T165227Z
LAST-MODIFIED:20250106T193153Z
UID:16662-1749988800-1750003200@redvers.ca
SUMMARY:Transfer Station
DESCRIPTION:
URL:https://redvers.ca/calendar-event/transfer-station-4-2025-06-15/
CATEGORIES:Town of Redvers
END:VEVENT
BEGIN:VEVENT
DTSTART;TZID=America/Regina:20250617T160000
DTEND;TZID=America/Regina:20250617T190000
DTSTAMP:20260421T074351
CREATED:20250103T165441Z
LAST-MODIFIED:20250103T165441Z
UID:16612-1750176000-1750186800@redvers.ca
SUMMARY:Transfer Station
DESCRIPTION:
URL:https://redvers.ca/calendar-event/transfer-station-5-2025-06-17/
CATEGORIES:Town of Redvers
END:VEVENT
END:VCALENDAR