BEGIN:VCALENDAR
VERSION:2.0
PRODID:-//Redvers, Saskatchewan - ECPv6.15.20//NONSGML v1.0//EN
CALSCALE:GREGORIAN
METHOD:PUBLISH
X-ORIGINAL-URL:https://redvers.ca
X-WR-CALDESC:Events for Redvers, Saskatchewan
REFRESH-INTERVAL;VALUE=DURATION:PT1H
X-Robots-Tag:noindex
X-PUBLISHED-TTL:PT1H
BEGIN:VTIMEZONE
TZID:America/Regina
BEGIN:STANDARD
TZOFFSETFROM:-0600
TZOFFSETTO:-0600
TZNAME:CST
DTSTART:20240101T000000
END:STANDARD
END:VTIMEZONE
BEGIN:VEVENT
DTSTART;TZID=America/Regina:20250527T160000
DTEND;TZID=America/Regina:20250527T190000
DTSTAMP:20260419T104124
CREATED:20250103T165441Z
LAST-MODIFIED:20250103T165441Z
UID:16605-1748361600-1748372400@redvers.ca
SUMMARY:Transfer Station
DESCRIPTION:
URL:https://redvers.ca/calendar-event/transfer-station-5-2025-05-27/
CATEGORIES:Town of Redvers
END:VEVENT
BEGIN:VEVENT
DTSTART;TZID=America/Regina:20250529T160000
DTEND;TZID=America/Regina:20250529T190000
DTSTAMP:20260419T104124
CREATED:20250103T165441Z
LAST-MODIFIED:20250103T165441Z
UID:16606-1748534400-1748545200@redvers.ca
SUMMARY:Transfer Station
DESCRIPTION:
URL:https://redvers.ca/calendar-event/transfer-station-5-2025-05-29/
CATEGORIES:Town of Redvers
END:VEVENT
BEGIN:VEVENT
DTSTART;VALUE=DATE:20250530
DTEND;VALUE=DATE:20250531
DTSTAMP:20260419T104124
CREATED:20241230T171118Z
LAST-MODIFIED:20241230T171118Z
UID:16344-1748563200-1748649599@redvers.ca
SUMMARY:Garbage Collection
DESCRIPTION:Carts must be out by 7a.m. on collection days.
URL:https://redvers.ca/calendar-event/garbage-collection-5-2025-05-30/
CATEGORIES:Town of Redvers
END:VEVENT
BEGIN:VEVENT
DTSTART;TZID=America/Regina:20250601T120000
DTEND;TZID=America/Regina:20250601T160000
DTSTAMP:20260419T104124
CREATED:20250103T165227Z
LAST-MODIFIED:20250106T193153Z
UID:16596-1748779200-1748793600@redvers.ca
SUMMARY:Transfer Station
DESCRIPTION:
URL:https://redvers.ca/calendar-event/transfer-station-4-2025-06-01/
CATEGORIES:Town of Redvers
END:VEVENT
BEGIN:VEVENT
DTSTART;TZID=America/Regina:20250603T160000
DTEND;TZID=America/Regina:20250603T190000
DTSTAMP:20260419T104124
CREATED:20250103T165441Z
LAST-MODIFIED:20250103T165441Z
UID:16607-1748966400-1748977200@redvers.ca
SUMMARY:Transfer Station
DESCRIPTION:
URL:https://redvers.ca/calendar-event/transfer-station-5-2025-06-03/
CATEGORIES:Town of Redvers
END:VEVENT
BEGIN:VEVENT
DTSTART;TZID=America/Regina:20250605T160000
DTEND;TZID=America/Regina:20250605T190000
DTSTAMP:20260419T104124
CREATED:20250103T165441Z
LAST-MODIFIED:20250103T165441Z
UID:16608-1749139200-1749150000@redvers.ca
SUMMARY:Transfer Station
DESCRIPTION:
URL:https://redvers.ca/calendar-event/transfer-station-5-2025-06-05/
CATEGORIES:Town of Redvers
END:VEVENT
BEGIN:VEVENT
DTSTART;TZID=America/Regina:20250608T120000
DTEND;TZID=America/Regina:20250608T160000
DTSTAMP:20260419T104124
CREATED:20250103T165227Z
LAST-MODIFIED:20250106T193153Z
UID:16661-1749384000-1749398400@redvers.ca
SUMMARY:Transfer Station
DESCRIPTION:
URL:https://redvers.ca/calendar-event/transfer-station-4-2025-06-08-2/
CATEGORIES:Town of Redvers
END:VEVENT
BEGIN:VEVENT
DTSTART;TZID=America/Regina:20250610T160000
DTEND;TZID=America/Regina:20250610T190000
DTSTAMP:20260419T104124
CREATED:20250103T165441Z
LAST-MODIFIED:20250103T165441Z
UID:16610-1749571200-1749582000@redvers.ca
SUMMARY:Transfer Station
DESCRIPTION:
URL:https://redvers.ca/calendar-event/transfer-station-5-2025-06-10/
CATEGORIES:Town of Redvers
END:VEVENT
BEGIN:VEVENT
DTSTART;TZID=America/Regina:20250612T160000
DTEND;TZID=America/Regina:20250612T190000
DTSTAMP:20260419T104124
CREATED:20250103T165441Z
LAST-MODIFIED:20250103T165441Z
UID:16611-1749744000-1749754800@redvers.ca
SUMMARY:Transfer Station
DESCRIPTION:
URL:https://redvers.ca/calendar-event/transfer-station-5-2025-06-12/
CATEGORIES:Town of Redvers
END:VEVENT
BEGIN:VEVENT
DTSTART;VALUE=DATE:20250613
DTEND;VALUE=DATE:20250614
DTSTAMP:20260419T104124
CREATED:20241230T171118Z
LAST-MODIFIED:20241230T171118Z
UID:16346-1749772800-1749859199@redvers.ca
SUMMARY:Garbage Collection
DESCRIPTION:Carts must be out by 7a.m. on collection days.
URL:https://redvers.ca/calendar-event/garbage-collection-5-2025-06-13/
CATEGORIES:Town of Redvers
END:VEVENT
BEGIN:VEVENT
DTSTART;TZID=America/Regina:20250615T120000
DTEND;TZID=America/Regina:20250615T160000
DTSTAMP:20260419T104124
CREATED:20250103T165227Z
LAST-MODIFIED:20250106T193153Z
UID:16662-1749988800-1750003200@redvers.ca
SUMMARY:Transfer Station
DESCRIPTION:
URL:https://redvers.ca/calendar-event/transfer-station-4-2025-06-15/
CATEGORIES:Town of Redvers
END:VEVENT
BEGIN:VEVENT
DTSTART;TZID=America/Regina:20250617T160000
DTEND;TZID=America/Regina:20250617T190000
DTSTAMP:20260419T104124
CREATED:20250103T165441Z
LAST-MODIFIED:20250103T165441Z
UID:16612-1750176000-1750186800@redvers.ca
SUMMARY:Transfer Station
DESCRIPTION:
URL:https://redvers.ca/calendar-event/transfer-station-5-2025-06-17/
CATEGORIES:Town of Redvers
END:VEVENT
BEGIN:VEVENT
DTSTART;TZID=America/Regina:20250618T180000
DTEND;TZID=America/Regina:20250618T210000
DTSTAMP:20260419T104124
CREATED:20250103T164038Z
LAST-MODIFIED:20250103T164038Z
UID:16547-1750269600-1750280400@redvers.ca
SUMMARY:Council Meeting
DESCRIPTION:
URL:https://redvers.ca/calendar-event/council-meeting-38/
LOCATION:Redvers Town Office
CATEGORIES:Town of Redvers
END:VEVENT
BEGIN:VEVENT
DTSTART;TZID=America/Regina:20250619T160000
DTEND;TZID=America/Regina:20250619T190000
DTSTAMP:20260419T104124
CREATED:20250103T165441Z
LAST-MODIFIED:20250103T165441Z
UID:16613-1750348800-1750359600@redvers.ca
SUMMARY:Transfer Station
DESCRIPTION:
URL:https://redvers.ca/calendar-event/transfer-station-5-2025-06-19/
CATEGORIES:Town of Redvers
END:VEVENT
BEGIN:VEVENT
DTSTART;TZID=America/Regina:20250622T120000
DTEND;TZID=America/Regina:20250622T160000
DTSTAMP:20260419T104124
CREATED:20250103T165227Z
LAST-MODIFIED:20250106T193153Z
UID:16663-1750593600-1750608000@redvers.ca
SUMMARY:Transfer Station
DESCRIPTION:
URL:https://redvers.ca/calendar-event/transfer-station-4-2025-06-22/
CATEGORIES:Town of Redvers
END:VEVENT
BEGIN:VEVENT
DTSTART;TZID=America/Regina:20250624T160000
DTEND;TZID=America/Regina:20250624T190000
DTSTAMP:20260419T104124
CREATED:20250103T165441Z
LAST-MODIFIED:20250103T165441Z
UID:16614-1750780800-1750791600@redvers.ca
SUMMARY:Transfer Station
DESCRIPTION:
URL:https://redvers.ca/calendar-event/transfer-station-5-2025-06-24/
CATEGORIES:Town of Redvers
END:VEVENT
BEGIN:VEVENT
DTSTART;TZID=America/Regina:20250626T160000
DTEND;TZID=America/Regina:20250626T190000
DTSTAMP:20260419T104124
CREATED:20250103T165441Z
LAST-MODIFIED:20250103T165441Z
UID:16615-1750953600-1750964400@redvers.ca
SUMMARY:Transfer Station
DESCRIPTION:
URL:https://redvers.ca/calendar-event/transfer-station-5-2025-06-26/
CATEGORIES:Town of Redvers
END:VEVENT
BEGIN:VEVENT
DTSTART;VALUE=DATE:20250627
DTEND;VALUE=DATE:20250628
DTSTAMP:20260419T104124
CREATED:20241230T171118Z
LAST-MODIFIED:20241230T171118Z
UID:16347-1750982400-1751068799@redvers.ca
SUMMARY:Garbage Collection
DESCRIPTION:Carts must be out by 7a.m. on collection days.
URL:https://redvers.ca/calendar-event/garbage-collection-5-2025-06-27/
CATEGORIES:Town of Redvers
END:VEVENT
BEGIN:VEVENT
DTSTART;TZID=America/Regina:20250629T120000
DTEND;TZID=America/Regina:20250629T160000
DTSTAMP:20260419T104124
CREATED:20250103T165227Z
LAST-MODIFIED:20250106T193153Z
UID:16664-1751198400-1751212800@redvers.ca
SUMMARY:Transfer Station
DESCRIPTION:
URL:https://redvers.ca/calendar-event/transfer-station-4-2025-06-29/
CATEGORIES:Town of Redvers
END:VEVENT
BEGIN:VEVENT
DTSTART;VALUE=DATE:20250701
DTEND;VALUE=DATE:20250702
DTSTAMP:20260419T104124
CREATED:20250103T164125Z
LAST-MODIFIED:20250103T164125Z
UID:16549-1751328000-1751414399@redvers.ca
SUMMARY:STAT
DESCRIPTION:
URL:https://redvers.ca/calendar-event/stat-10/
LOCATION:Redvers Town Office
CATEGORIES:Town of Redvers
END:VEVENT
BEGIN:VEVENT
DTSTART;TZID=America/Regina:20250701T160000
DTEND;TZID=America/Regina:20250701T190000
DTSTAMP:20260419T104124
CREATED:20250103T165441Z
LAST-MODIFIED:20250103T165441Z
UID:16616-1751385600-1751396400@redvers.ca
SUMMARY:Transfer Station
DESCRIPTION:
URL:https://redvers.ca/calendar-event/transfer-station-5-2025-07-01/
CATEGORIES:Town of Redvers
END:VEVENT
BEGIN:VEVENT
DTSTART;TZID=America/Regina:20250703T160000
DTEND;TZID=America/Regina:20250703T190000
DTSTAMP:20260419T104124
CREATED:20250103T165441Z
LAST-MODIFIED:20250103T165441Z
UID:16617-1751558400-1751569200@redvers.ca
SUMMARY:Transfer Station
DESCRIPTION:
URL:https://redvers.ca/calendar-event/transfer-station-5-2025-07-03/
CATEGORIES:Town of Redvers
END:VEVENT
BEGIN:VEVENT
DTSTART;TZID=America/Regina:20250706T120000
DTEND;TZID=America/Regina:20250706T160000
DTSTAMP:20260419T104124
CREATED:20250103T165227Z
LAST-MODIFIED:20250106T193153Z
UID:16665-1751803200-1751817600@redvers.ca
SUMMARY:Transfer Station
DESCRIPTION:
URL:https://redvers.ca/calendar-event/transfer-station-4-2025-07-06/
CATEGORIES:Town of Redvers
END:VEVENT
BEGIN:VEVENT
DTSTART;TZID=America/Regina:20250708T160000
DTEND;TZID=America/Regina:20250708T190000
DTSTAMP:20260419T104124
CREATED:20250103T165441Z
LAST-MODIFIED:20250103T165441Z
UID:16618-1751990400-1752001200@redvers.ca
SUMMARY:Transfer Station
DESCRIPTION:
URL:https://redvers.ca/calendar-event/transfer-station-5-2025-07-08/
CATEGORIES:Town of Redvers
END:VEVENT
BEGIN:VEVENT
DTSTART;TZID=America/Regina:20250710T160000
DTEND;TZID=America/Regina:20250710T190000
DTSTAMP:20260419T104124
CREATED:20250103T165441Z
LAST-MODIFIED:20250103T165441Z
UID:16619-1752163200-1752174000@redvers.ca
SUMMARY:Transfer Station
DESCRIPTION:
URL:https://redvers.ca/calendar-event/transfer-station-5-2025-07-10/
CATEGORIES:Town of Redvers
END:VEVENT
BEGIN:VEVENT
DTSTART;VALUE=DATE:20250711
DTEND;VALUE=DATE:20250712
DTSTAMP:20260419T104124
CREATED:20241230T171118Z
LAST-MODIFIED:20241230T171118Z
UID:16348-1752192000-1752278399@redvers.ca
SUMMARY:Garbage Collection
DESCRIPTION:Carts must be out by 7a.m. on collection days.
URL:https://redvers.ca/calendar-event/garbage-collection-5-2025-07-11/
CATEGORIES:Town of Redvers
END:VEVENT
BEGIN:VEVENT
DTSTART;TZID=America/Regina:20250713T120000
DTEND;TZID=America/Regina:20250713T160000
DTSTAMP:20260419T104124
CREATED:20250103T165227Z
LAST-MODIFIED:20250106T193153Z
UID:16666-1752408000-1752422400@redvers.ca
SUMMARY:Transfer Station
DESCRIPTION:
URL:https://redvers.ca/calendar-event/transfer-station-4-2025-07-13/
CATEGORIES:Town of Redvers
END:VEVENT
BEGIN:VEVENT
DTSTART;TZID=America/Regina:20250715T160000
DTEND;TZID=America/Regina:20250715T190000
DTSTAMP:20260419T104124
CREATED:20250103T165441Z
LAST-MODIFIED:20250103T165441Z
UID:16620-1752595200-1752606000@redvers.ca
SUMMARY:Transfer Station
DESCRIPTION:
URL:https://redvers.ca/calendar-event/transfer-station-5-2025-07-15/
CATEGORIES:Town of Redvers
END:VEVENT
BEGIN:VEVENT
DTSTART;TZID=America/Regina:20250717T160000
DTEND;TZID=America/Regina:20250717T190000
DTSTAMP:20260419T104124
CREATED:20250103T165441Z
LAST-MODIFIED:20250103T165441Z
UID:16621-1752768000-1752778800@redvers.ca
SUMMARY:Transfer Station
DESCRIPTION:
URL:https://redvers.ca/calendar-event/transfer-station-5-2025-07-17/
CATEGORIES:Town of Redvers
END:VEVENT
BEGIN:VEVENT
DTSTART;TZID=America/Regina:20250720T120000
DTEND;TZID=America/Regina:20250720T160000
DTSTAMP:20260419T104124
CREATED:20250103T165227Z
LAST-MODIFIED:20250106T193153Z
UID:16667-1753012800-1753027200@redvers.ca
SUMMARY:Transfer Station
DESCRIPTION:
URL:https://redvers.ca/calendar-event/transfer-station-4-2025-07-20/
CATEGORIES:Town of Redvers
END:VEVENT
END:VCALENDAR