BEGIN:VCALENDAR
VERSION:2.0
PRODID:-//Redvers, Saskatchewan - ECPv6.15.20//NONSGML v1.0//EN
CALSCALE:GREGORIAN
METHOD:PUBLISH
X-WR-CALNAME:Redvers, Saskatchewan
X-ORIGINAL-URL:https://redvers.ca
X-WR-CALDESC:Events for Redvers, Saskatchewan
REFRESH-INTERVAL;VALUE=DURATION:PT1H
X-Robots-Tag:noindex
X-PUBLISHED-TTL:PT1H
BEGIN:VTIMEZONE
TZID:America/Regina
BEGIN:STANDARD
TZOFFSETFROM:-0600
TZOFFSETTO:-0600
TZNAME:CST
DTSTART:20230101T000000
END:STANDARD
END:VTIMEZONE
BEGIN:VEVENT
DTSTART;TZID=America/Regina:20240827T130000
DTEND;TZID=America/Regina:20240827T170000
DTSTAMP:20260421T071635
CREATED:20240726T191344Z
LAST-MODIFIED:20240726T191347Z
UID:15022-1724763600-1724778000@redvers.ca
SUMMARY:Public Swimming
DESCRIPTION:
URL:https://redvers.ca/calendar-event/public-swimming-73-2024-08-27/
LOCATION:Redvers Recreation Centre
CATEGORIES:Recreation Centre Events
END:VEVENT
BEGIN:VEVENT
DTSTART;TZID=America/Regina:20240827T120000
DTEND;TZID=America/Regina:20240827T130000
DTSTAMP:20260421T071635
CREATED:20240715T171350Z
LAST-MODIFIED:20240715T171350Z
UID:15097-1724760000-1724763600@redvers.ca
SUMMARY:Fitness Group
DESCRIPTION:
URL:https://redvers.ca/calendar-event/fitness-group-69-2024-08-27/
LOCATION:Redvers Recreation Centre
CATEGORIES:General Events
END:VEVENT
BEGIN:VEVENT
DTSTART;TZID=America/Regina:20240827T063000
DTEND;TZID=America/Regina:20240827T073000
DTSTAMP:20260421T071635
CREATED:20240715T171317Z
LAST-MODIFIED:20240715T171317Z
UID:15089-1724740200-1724743800@redvers.ca
SUMMARY:Fitness Group
DESCRIPTION:
URL:https://redvers.ca/calendar-event/fitness-group-68-2024-08-27/
LOCATION:Redvers Recreation Centre
CATEGORIES:General Events
END:VEVENT
BEGIN:VEVENT
DTSTART;TZID=America/Regina:20240826T180000
DTEND;TZID=America/Regina:20240826T203000
DTSTAMP:20260421T071635
CREATED:20240715T165201Z
LAST-MODIFIED:20240715T165201Z
UID:14934-1724695200-1724704200@redvers.ca
SUMMARY:Ladies' Night Golf
DESCRIPTION:
URL:https://redvers.ca/calendar-event/ladies-night-golf-4-2024-08-26/
LOCATION:Redvers Golf & Country Club
CATEGORIES:General Events
END:VEVENT
BEGIN:VEVENT
DTSTART;TZID=America/Regina:20240826T180000
DTEND;TZID=America/Regina:20240826T200000
DTSTAMP:20260421T071635
CREATED:20240726T191432Z
LAST-MODIFIED:20240726T191438Z
UID:15029-1724695200-1724702400@redvers.ca
SUMMARY:Public Swimming
DESCRIPTION:
URL:https://redvers.ca/calendar-event/public-swimming-74/
LOCATION:Redvers Recreation Centre
CATEGORIES:Recreation Centre Events
END:VEVENT
BEGIN:VEVENT
DTSTART;TZID=America/Regina:20240826T170000
DTEND;TZID=America/Regina:20240826T180000
DTSTAMP:20260421T071635
CREATED:20240808T170559Z
LAST-MODIFIED:20240808T170645Z
UID:15122-1724691600-1724695200@redvers.ca
SUMMARY:Lane Swim
DESCRIPTION:
URL:https://redvers.ca/calendar-event/lane-swim-2024-08-26/
CATEGORIES:Recreation Centre Events
END:VEVENT
BEGIN:VEVENT
DTSTART;TZID=America/Regina:20240826T130000
DTEND;TZID=America/Regina:20240826T170000
DTSTAMP:20260421T071635
CREATED:20240726T191344Z
LAST-MODIFIED:20240726T191347Z
UID:15021-1724677200-1724691600@redvers.ca
SUMMARY:Public Swimming
DESCRIPTION:
URL:https://redvers.ca/calendar-event/public-swimming-73/
LOCATION:Redvers Recreation Centre
CATEGORIES:Recreation Centre Events
END:VEVENT
BEGIN:VEVENT
DTSTART;TZID=America/Regina:20240825T130000
DTEND;TZID=America/Regina:20240825T200000
DTSTAMP:20260421T071635
CREATED:20240821T151254Z
LAST-MODIFIED:20240821T154314Z
UID:15171-1724590800-1724616000@redvers.ca
SUMMARY:Carnival Themed Pool Party
DESCRIPTION:Games & Activities include a Bouncy Castle\, Kissing Booth\, Photo Booth\, Horse Race\, Crossnet\, Bubble Station\, Target Golf\, Chase the Ace (kids version)\, Corn Hole\, Cookie Decorating\, Fishing\, Ring Toss\, Roller Balls\, Hungry Hippos\, Frisbee Tic Tac Toe\, Water Gun Painting\, and Ladder Ball
URL:https://redvers.ca/calendar-event/carnival-themed-pool-party/
LOCATION:Redvers Recreation Centre
CATEGORIES:Recreation Centre Events
ATTACH;FMTTYPE=image/jpeg:https://redvers.ca/wp-content/uploads/2024/08/Pool-Poster.jpg
END:VEVENT
BEGIN:VEVENT
DTSTART;TZID=America/Regina:20240825T120000
DTEND;TZID=America/Regina:20240825T160000
DTSTAMP:20260421T071635
CREATED:20230926T182217Z
LAST-MODIFIED:20230926T182217Z
UID:12755-1724587200-1724601600@redvers.ca
SUMMARY:Transfer Station
DESCRIPTION:
URL:https://redvers.ca/calendar-event/transfer-station-2024-08-25/
CATEGORIES:Town of Redvers
END:VEVENT
BEGIN:VEVENT
DTSTART;TZID=America/Regina:20240824T130000
DTEND;TZID=America/Regina:20240824T200000
DTSTAMP:20260421T071635
CREATED:20240726T184844Z
LAST-MODIFIED:20240821T151019Z
UID:15012-1724504400-1724529600@redvers.ca
SUMMARY:Public Swimming
DESCRIPTION:
URL:https://redvers.ca/calendar-event/public-swimming-71-2024-08-24/
LOCATION:Redvers Recreation Centre
CATEGORIES:Recreation Centre Events
END:VEVENT
BEGIN:VEVENT
DTSTART;TZID=America/Regina:20240824T110000
DTEND;TZID=America/Regina:20240824T210000
DTSTAMP:20260421T071635
CREATED:20240719T151816Z
LAST-MODIFIED:20240719T152037Z
UID:14824-1724497200-1724533200@redvers.ca
SUMMARY:Ladies Golf Tournament
DESCRIPTION:
URL:https://redvers.ca/calendar-event/ladies-golf-tournament-3/
LOCATION:Redvers Golf & Country Club
CATEGORIES:General Events,Golf Course Events
END:VEVENT
BEGIN:VEVENT
DTSTART;TZID=America/Regina:20240823T130000
DTEND;TZID=America/Regina:20240823T200000
DTSTAMP:20260421T071635
CREATED:20240726T184844Z
LAST-MODIFIED:20240821T151019Z
UID:15011-1724418000-1724443200@redvers.ca
SUMMARY:Public Swimming
DESCRIPTION:
URL:https://redvers.ca/calendar-event/public-swimming-71/
LOCATION:Redvers Recreation Centre
CATEGORIES:Recreation Centre Events
END:VEVENT
BEGIN:VEVENT
DTSTART;TZID=America/Regina:20240823T130000
DTEND;TZID=America/Regina:20240823T153000
DTSTAMP:20260421T071635
CREATED:20240715T172211Z
LAST-MODIFIED:20240715T172211Z
UID:15108-1724418000-1724427000@redvers.ca
SUMMARY:Spades
DESCRIPTION:
URL:https://redvers.ca/calendar-event/spades-11-2024-08-23/
LOCATION:Golden Age Centre\, Redvers\, SK\, Canada
CATEGORIES:General Events
END:VEVENT
BEGIN:VEVENT
DTSTART;TZID=America/Regina:20240823T100000
DTEND;TZID=America/Regina:20240823T110000
DTSTAMP:20260421T071635
CREATED:20240704T142401Z
LAST-MODIFIED:20240704T142401Z
UID:15056-1724407200-1724410800@redvers.ca
SUMMARY:Storytime
DESCRIPTION:
URL:https://redvers.ca/calendar-event/storytime-24-2024-08-23/
LOCATION:Redvers Library
CATEGORIES:Redvers Library
END:VEVENT
BEGIN:VEVENT
DTSTART;VALUE=DATE:20240823
DTEND;VALUE=DATE:20240824
DTSTAMP:20260421T071635
CREATED:20230310T214759Z
LAST-MODIFIED:20230310T214759Z
UID:12581-1724371200-1724457599@redvers.ca
SUMMARY:Garbage Collection
DESCRIPTION:Carts must be out by 7a.m. on collection days.
URL:https://redvers.ca/calendar-event/garbage-collection-4-2024-08-23/
CATEGORIES:Town of Redvers
END:VEVENT
BEGIN:VEVENT
DTSTART;TZID=America/Regina:20240822T180000
DTEND;TZID=America/Regina:20240822T203000
DTSTAMP:20260421T071635
CREATED:20240808T171215Z
LAST-MODIFIED:20240808T171215Z
UID:15130-1724349600-1724358600@redvers.ca
SUMMARY:Youth Floor Hockey
DESCRIPTION:There will be 2 age groups\, 7-10 and 11-16. To register text the Redvers Rec Director @ 306-452-7443
URL:https://redvers.ca/calendar-event/youth-floor-hockey/
END:VEVENT
BEGIN:VEVENT
DTSTART;TZID=America/Regina:20240822T180000
DTEND;TZID=America/Regina:20240822T200000
DTSTAMP:20260421T071635
CREATED:20240726T184423Z
LAST-MODIFIED:20240726T184427Z
UID:14978-1724349600-1724356800@redvers.ca
SUMMARY:Public Swimming
DESCRIPTION:
URL:https://redvers.ca/calendar-event/public-swimming-66-2024-08-22/
LOCATION:Redvers Recreation Centre
CATEGORIES:Recreation Centre Events
END:VEVENT
BEGIN:VEVENT
DTSTART;TZID=America/Regina:20240822T170000
DTEND;TZID=America/Regina:20240822T180000
DTSTAMP:20260421T071635
CREATED:20240715T165125Z
LAST-MODIFIED:20240808T170305Z
UID:15043-1724346000-1724349600@redvers.ca
SUMMARY:Water Aerobics
DESCRIPTION:
URL:https://redvers.ca/calendar-event/lane-swim-water-aerobics-9-2024-08-22/
LOCATION:Redvers Recreation Centre
CATEGORIES:Recreation Centre Events
END:VEVENT
BEGIN:VEVENT
DTSTART;TZID=America/Regina:20240822T160000
DTEND;TZID=America/Regina:20240822T190000
DTSTAMP:20260421T071635
CREATED:20240326T194519Z
LAST-MODIFIED:20240326T194519Z
UID:13716-1724342400-1724353200@redvers.ca
SUMMARY:Transfer Station
DESCRIPTION:
URL:https://redvers.ca/calendar-event/transfer-station-3-2024-08-22/
CATEGORIES:Town of Redvers
END:VEVENT
BEGIN:VEVENT
DTSTART;TZID=America/Regina:20240822T130000
DTEND;TZID=America/Regina:20240822T170000
DTSTAMP:20260421T071635
CREATED:20240726T184342Z
LAST-MODIFIED:20240726T184348Z
UID:14970-1724331600-1724346000@redvers.ca
SUMMARY:Public Swimming
DESCRIPTION:
URL:https://redvers.ca/calendar-event/public-swimming-65-2024-08-22/
LOCATION:Redvers Recreation Centre
CATEGORIES:Recreation Centre Events
END:VEVENT
BEGIN:VEVENT
DTSTART;TZID=America/Regina:20240822T120000
DTEND;TZID=America/Regina:20240822T130000
DTSTAMP:20260421T071635
CREATED:20240715T171350Z
LAST-MODIFIED:20240802T160336Z
UID:14948-1724328000-1724331600@redvers.ca
SUMMARY:Fitness Group
DESCRIPTION:
URL:https://redvers.ca/calendar-event/fitness-group-69-2024-08-22/
LOCATION:Redvers Recreation Centre
CATEGORIES:General Events
END:VEVENT
BEGIN:VEVENT
DTSTART;TZID=America/Regina:20240822T100000
DTEND;TZID=America/Regina:20240822T120000
DTSTAMP:20260421T071635
CREATED:20240725T152431Z
LAST-MODIFIED:20240725T152549Z
UID:14918-1724320800-1724328000@redvers.ca
SUMMARY:Senior Golf
DESCRIPTION:
URL:https://redvers.ca/calendar-event/senior-golf-2024-08-22/
LOCATION:Redvers Golf & Country Club
CATEGORIES:General Events,Golf Course Events
END:VEVENT
BEGIN:VEVENT
DTSTART;TZID=America/Regina:20240822T063000
DTEND;TZID=America/Regina:20240822T073000
DTSTAMP:20260421T071635
CREATED:20240715T171317Z
LAST-MODIFIED:20240802T160311Z
UID:14940-1724308200-1724311800@redvers.ca
SUMMARY:Fitness Group
DESCRIPTION:
URL:https://redvers.ca/calendar-event/fitness-group-68-2024-08-22/
LOCATION:Redvers Recreation Centre
CATEGORIES:General Events
END:VEVENT
BEGIN:VEVENT
DTSTART;TZID=America/Regina:20240821T180000
DTEND;TZID=America/Regina:20240821T210000
DTSTAMP:20260421T071635
CREATED:20231124T171931Z
LAST-MODIFIED:20231124T172241Z
UID:12310-1724263200-1724274000@redvers.ca
SUMMARY:Council Meeting
DESCRIPTION:
URL:https://redvers.ca/calendar-event/council-meeting-24-2024-08-21/
LOCATION:Redvers Town Office
CATEGORIES:Town of Redvers
END:VEVENT
BEGIN:VEVENT
DTSTART;TZID=America/Regina:20240821T180000
DTEND;TZID=America/Regina:20240821T200000
DTSTAMP:20260421T071635
CREATED:20240726T184423Z
LAST-MODIFIED:20240726T184427Z
UID:14977-1724263200-1724270400@redvers.ca
SUMMARY:Public Swimming
DESCRIPTION:
URL:https://redvers.ca/calendar-event/public-swimming-66-2024-08-21/
LOCATION:Redvers Recreation Centre
CATEGORIES:Recreation Centre Events
END:VEVENT
BEGIN:VEVENT
DTSTART;TZID=America/Regina:20240821T170000
DTEND;TZID=America/Regina:20240821T180000
DTSTAMP:20260421T071635
CREATED:20240808T170559Z
LAST-MODIFIED:20240808T170645Z
UID:15121-1724259600-1724263200@redvers.ca
SUMMARY:Lane Swim
DESCRIPTION:
URL:https://redvers.ca/calendar-event/lane-swim-2024-08-21/
CATEGORIES:Recreation Centre Events
END:VEVENT
BEGIN:VEVENT
DTSTART;TZID=America/Regina:20240821T130000
DTEND;TZID=America/Regina:20240821T170000
DTSTAMP:20260421T071635
CREATED:20240726T184342Z
LAST-MODIFIED:20240726T184348Z
UID:14969-1724245200-1724259600@redvers.ca
SUMMARY:Public Swimming
DESCRIPTION:
URL:https://redvers.ca/calendar-event/public-swimming-65-2024-08-21/
LOCATION:Redvers Recreation Centre
CATEGORIES:Recreation Centre Events
END:VEVENT
BEGIN:VEVENT
DTSTART;TZID=America/Regina:20240821T130000
DTEND;TZID=America/Regina:20240821T160000
DTSTAMP:20260421T071635
CREATED:20240718T203757Z
LAST-MODIFIED:20240718T203757Z
UID:14929-1724245200-1724256000@redvers.ca
SUMMARY:Junior Golf
DESCRIPTION:
URL:https://redvers.ca/calendar-event/junior-golf-2-2024-08-21/
LOCATION:Redvers Golf & Country Club
CATEGORIES:General Events,Golf Course Events
END:VEVENT
BEGIN:VEVENT
DTSTART;TZID=America/Regina:20240821T130000
DTEND;TZID=America/Regina:20240821T153000
DTSTAMP:20260421T071635
CREATED:20240715T171127Z
LAST-MODIFIED:20240715T171127Z
UID:15104-1724245200-1724254200@redvers.ca
SUMMARY:Cribbage
DESCRIPTION:
URL:https://redvers.ca/calendar-event/cribbage-12-2024-08-21/
LOCATION:Golden Age Centre\, Redvers\, SK\, Canada
CATEGORIES:General Events
END:VEVENT
BEGIN:VEVENT
DTSTART;TZID=America/Regina:20240821T110000
DTEND;TZID=America/Regina:20240821T140000
DTSTAMP:20260421T071635
CREATED:20240622T005326Z
LAST-MODIFIED:20240622T005329Z
UID:14480-1724238000-1724248800@redvers.ca
SUMMARY:Farmer's Market
DESCRIPTION:
URL:https://redvers.ca/calendar-event/farmers-market-18/
LOCATION:Redvers Log Cabin
CATEGORIES:General Events
END:VEVENT
END:VCALENDAR