BEGIN:VCALENDAR
VERSION:2.0
PRODID:-//Redvers, Saskatchewan - ECPv6.15.20//NONSGML v1.0//EN
CALSCALE:GREGORIAN
METHOD:PUBLISH
X-WR-CALNAME:Redvers, Saskatchewan
X-ORIGINAL-URL:https://redvers.ca
X-WR-CALDESC:Events for Redvers, Saskatchewan
REFRESH-INTERVAL;VALUE=DURATION:PT1H
X-Robots-Tag:noindex
X-PUBLISHED-TTL:PT1H
BEGIN:VTIMEZONE
TZID:America/Regina
BEGIN:STANDARD
TZOFFSETFROM:-0600
TZOFFSETTO:-0600
TZNAME:CST
DTSTART:20230101T000000
END:STANDARD
END:VTIMEZONE
BEGIN:VEVENT
DTSTART;TZID=America/Regina:20240830T100000
DTEND;TZID=America/Regina:20240830T110000
DTSTAMP:20260421T132844
CREATED:20240704T142401Z
LAST-MODIFIED:20240704T142401Z
UID:15057-1725012000-1725015600@redvers.ca
SUMMARY:Storytime
DESCRIPTION:
URL:https://redvers.ca/calendar-event/storytime-24-2024-08-30/
LOCATION:Redvers Library
CATEGORIES:Redvers Library
END:VEVENT
BEGIN:VEVENT
DTSTART;VALUE=DATE:20240830
DTEND;VALUE=DATE:20240831
DTSTAMP:20260421T132844
CREATED:20230310T214454Z
LAST-MODIFIED:20230310T214454Z
UID:12555-1724976000-1725062399@redvers.ca
SUMMARY:Recycle Collection
DESCRIPTION:Carts must be out by 7a.m. on collection days.
URL:https://redvers.ca/calendar-event/recycle-collection-2024-08-30/
CATEGORIES:Arts Centre Events
END:VEVENT
BEGIN:VEVENT
DTSTART;TZID=America/Regina:20240829T180000
DTEND;TZID=America/Regina:20240829T200000
DTSTAMP:20260421T132844
CREATED:20240726T191432Z
LAST-MODIFIED:20240726T191438Z
UID:15032-1724954400-1724961600@redvers.ca
SUMMARY:Public Swimming
DESCRIPTION:
URL:https://redvers.ca/calendar-event/public-swimming-74-2024-08-29/
LOCATION:Redvers Recreation Centre
CATEGORIES:Recreation Centre Events
END:VEVENT
BEGIN:VEVENT
DTSTART;TZID=America/Regina:20240829T170000
DTEND;TZID=America/Regina:20240829T180000
DTSTAMP:20260421T132844
CREATED:20240715T165125Z
LAST-MODIFIED:20240808T170305Z
UID:15045-1724950800-1724954400@redvers.ca
SUMMARY:Water Aerobics
DESCRIPTION:
URL:https://redvers.ca/calendar-event/lane-swim-water-aerobics-9-2024-08-29/
LOCATION:Redvers Recreation Centre
CATEGORIES:Recreation Centre Events
END:VEVENT
BEGIN:VEVENT
DTSTART;TZID=America/Regina:20240829T160000
DTEND;TZID=America/Regina:20240829T190000
DTSTAMP:20260421T132844
CREATED:20240326T194519Z
LAST-MODIFIED:20240326T194519Z
UID:13718-1724947200-1724958000@redvers.ca
SUMMARY:Transfer Station
DESCRIPTION:
URL:https://redvers.ca/calendar-event/transfer-station-3-2024-08-29/
CATEGORIES:Town of Redvers
END:VEVENT
BEGIN:VEVENT
DTSTART;TZID=America/Regina:20240829T130000
DTEND;TZID=America/Regina:20240829T170000
DTSTAMP:20260421T132844
CREATED:20240726T191344Z
LAST-MODIFIED:20240726T191347Z
UID:15024-1724936400-1724950800@redvers.ca
SUMMARY:Public Swimming
DESCRIPTION:
URL:https://redvers.ca/calendar-event/public-swimming-73-2024-08-29/
LOCATION:Redvers Recreation Centre
CATEGORIES:Recreation Centre Events
END:VEVENT
BEGIN:VEVENT
DTSTART;TZID=America/Regina:20240829T120000
DTEND;TZID=America/Regina:20240829T130000
DTSTAMP:20260421T132844
CREATED:20240715T171350Z
LAST-MODIFIED:20240802T160336Z
UID:14950-1724932800-1724936400@redvers.ca
SUMMARY:Fitness Group
DESCRIPTION:
URL:https://redvers.ca/calendar-event/fitness-group-69-2024-08-29/
LOCATION:Redvers Recreation Centre
CATEGORIES:General Events
END:VEVENT
BEGIN:VEVENT
DTSTART;TZID=America/Regina:20240829T100000
DTEND;TZID=America/Regina:20240829T120000
DTSTAMP:20260421T132844
CREATED:20240725T152431Z
LAST-MODIFIED:20240725T152549Z
UID:14919-1724925600-1724932800@redvers.ca
SUMMARY:Senior Golf
DESCRIPTION:
URL:https://redvers.ca/calendar-event/senior-golf-2024-08-29/
LOCATION:Redvers Golf & Country Club
CATEGORIES:General Events,Golf Course Events
END:VEVENT
BEGIN:VEVENT
DTSTART;TZID=America/Regina:20240829T063000
DTEND;TZID=America/Regina:20240829T073000
DTSTAMP:20260421T132844
CREATED:20240715T171317Z
LAST-MODIFIED:20240802T160311Z
UID:14942-1724913000-1724916600@redvers.ca
SUMMARY:Fitness Group
DESCRIPTION:
URL:https://redvers.ca/calendar-event/fitness-group-68-2024-08-29/
LOCATION:Redvers Recreation Centre
CATEGORIES:General Events
END:VEVENT
BEGIN:VEVENT
DTSTART;TZID=America/Regina:20240828T180000
DTEND;TZID=America/Regina:20240828T200000
DTSTAMP:20260421T132844
CREATED:20240726T191432Z
LAST-MODIFIED:20240726T191438Z
UID:15031-1724868000-1724875200@redvers.ca
SUMMARY:Public Swimming
DESCRIPTION:
URL:https://redvers.ca/calendar-event/public-swimming-74-2024-08-28/
LOCATION:Redvers Recreation Centre
CATEGORIES:Recreation Centre Events
END:VEVENT
BEGIN:VEVENT
DTSTART;TZID=America/Regina:20240828T180000
DTEND;TZID=America/Regina:20240828T193000
DTSTAMP:20260421T132844
CREATED:20240729T211015Z
LAST-MODIFIED:20240729T211018Z
UID:15069-1724868000-1724873400@redvers.ca
SUMMARY:Family Movie Night: Elemental
DESCRIPTION:
URL:https://redvers.ca/calendar-event/family-movie-night-elemental/
LOCATION:Redvers Library
CATEGORIES:Redvers Library
END:VEVENT
BEGIN:VEVENT
DTSTART;TZID=America/Regina:20240828T170000
DTEND;TZID=America/Regina:20240828T180000
DTSTAMP:20260421T132844
CREATED:20240808T170559Z
LAST-MODIFIED:20240808T170645Z
UID:15123-1724864400-1724868000@redvers.ca
SUMMARY:Lane Swim
DESCRIPTION:
URL:https://redvers.ca/calendar-event/lane-swim-2024-08-28/
CATEGORIES:Recreation Centre Events
END:VEVENT
BEGIN:VEVENT
DTSTART;TZID=America/Regina:20240828T130000
DTEND;TZID=America/Regina:20240828T170000
DTSTAMP:20260421T132844
CREATED:20240726T191344Z
LAST-MODIFIED:20240726T191347Z
UID:15023-1724850000-1724864400@redvers.ca
SUMMARY:Public Swimming
DESCRIPTION:
URL:https://redvers.ca/calendar-event/public-swimming-73-2024-08-28/
LOCATION:Redvers Recreation Centre
CATEGORIES:Recreation Centre Events
END:VEVENT
BEGIN:VEVENT
DTSTART;TZID=America/Regina:20240828T130000
DTEND;TZID=America/Regina:20240828T160000
DTSTAMP:20260421T132844
CREATED:20240718T203757Z
LAST-MODIFIED:20240718T203757Z
UID:14930-1724850000-1724860800@redvers.ca
SUMMARY:Junior Golf
DESCRIPTION:
URL:https://redvers.ca/calendar-event/junior-golf-2-2024-08-28/
LOCATION:Redvers Golf & Country Club
CATEGORIES:General Events,Golf Course Events
END:VEVENT
BEGIN:VEVENT
DTSTART;TZID=America/Regina:20240828T130000
DTEND;TZID=America/Regina:20240828T153000
DTSTAMP:20260421T132844
CREATED:20240715T171127Z
LAST-MODIFIED:20240715T171127Z
UID:15105-1724850000-1724859000@redvers.ca
SUMMARY:Cribbage
DESCRIPTION:
URL:https://redvers.ca/calendar-event/cribbage-12-2024-08-28/
LOCATION:Golden Age Centre\, Redvers\, SK\, Canada
CATEGORIES:General Events
END:VEVENT
BEGIN:VEVENT
DTSTART;TZID=America/Regina:20240827T180000
DTEND;TZID=America/Regina:20240827T203000
DTSTAMP:20260421T132844
CREATED:20240715T165707Z
LAST-MODIFIED:20240715T165707Z
UID:15049-1724781600-1724790600@redvers.ca
SUMMARY:Men's Night Golf
DESCRIPTION:
URL:https://redvers.ca/calendar-event/mens-night-golf-4-2024-08-27/
LOCATION:Redvers Golf & Country Club
CATEGORIES:General Events
END:VEVENT
BEGIN:VEVENT
DTSTART;TZID=America/Regina:20240827T180000
DTEND;TZID=America/Regina:20240827T200000
DTSTAMP:20260421T132844
CREATED:20240726T191432Z
LAST-MODIFIED:20240726T191438Z
UID:15030-1724781600-1724788800@redvers.ca
SUMMARY:Public Swimming
DESCRIPTION:
URL:https://redvers.ca/calendar-event/public-swimming-74-2024-08-27/
LOCATION:Redvers Recreation Centre
CATEGORIES:Recreation Centre Events
END:VEVENT
BEGIN:VEVENT
DTSTART;TZID=America/Regina:20240827T170000
DTEND;TZID=America/Regina:20240827T180000
DTSTAMP:20260421T132844
CREATED:20240715T165125Z
LAST-MODIFIED:20240808T170305Z
UID:15044-1724778000-1724781600@redvers.ca
SUMMARY:Water Aerobics
DESCRIPTION:
URL:https://redvers.ca/calendar-event/lane-swim-water-aerobics-9-2024-08-27/
LOCATION:Redvers Recreation Centre
CATEGORIES:Recreation Centre Events
END:VEVENT
BEGIN:VEVENT
DTSTART;TZID=America/Regina:20240827T160000
DTEND;TZID=America/Regina:20240827T190000
DTSTAMP:20260421T132844
CREATED:20240326T194519Z
LAST-MODIFIED:20240326T194519Z
UID:13717-1724774400-1724785200@redvers.ca
SUMMARY:Transfer Station
DESCRIPTION:
URL:https://redvers.ca/calendar-event/transfer-station-3-2024-08-27/
CATEGORIES:Town of Redvers
END:VEVENT
BEGIN:VEVENT
DTSTART;TZID=America/Regina:20240827T130000
DTEND;TZID=America/Regina:20240827T170000
DTSTAMP:20260421T132844
CREATED:20240726T191344Z
LAST-MODIFIED:20240726T191347Z
UID:15022-1724763600-1724778000@redvers.ca
SUMMARY:Public Swimming
DESCRIPTION:
URL:https://redvers.ca/calendar-event/public-swimming-73-2024-08-27/
LOCATION:Redvers Recreation Centre
CATEGORIES:Recreation Centre Events
END:VEVENT
BEGIN:VEVENT
DTSTART;TZID=America/Regina:20240827T120000
DTEND;TZID=America/Regina:20240827T130000
DTSTAMP:20260421T132844
CREATED:20240715T171350Z
LAST-MODIFIED:20240715T171350Z
UID:15097-1724760000-1724763600@redvers.ca
SUMMARY:Fitness Group
DESCRIPTION:
URL:https://redvers.ca/calendar-event/fitness-group-69-2024-08-27/
LOCATION:Redvers Recreation Centre
CATEGORIES:General Events
END:VEVENT
BEGIN:VEVENT
DTSTART;TZID=America/Regina:20240827T063000
DTEND;TZID=America/Regina:20240827T073000
DTSTAMP:20260421T132844
CREATED:20240715T171317Z
LAST-MODIFIED:20240715T171317Z
UID:15089-1724740200-1724743800@redvers.ca
SUMMARY:Fitness Group
DESCRIPTION:
URL:https://redvers.ca/calendar-event/fitness-group-68-2024-08-27/
LOCATION:Redvers Recreation Centre
CATEGORIES:General Events
END:VEVENT
BEGIN:VEVENT
DTSTART;TZID=America/Regina:20240826T180000
DTEND;TZID=America/Regina:20240826T203000
DTSTAMP:20260421T132844
CREATED:20240715T165201Z
LAST-MODIFIED:20240715T165201Z
UID:14934-1724695200-1724704200@redvers.ca
SUMMARY:Ladies' Night Golf
DESCRIPTION:
URL:https://redvers.ca/calendar-event/ladies-night-golf-4-2024-08-26/
LOCATION:Redvers Golf & Country Club
CATEGORIES:General Events
END:VEVENT
BEGIN:VEVENT
DTSTART;TZID=America/Regina:20240826T180000
DTEND;TZID=America/Regina:20240826T200000
DTSTAMP:20260421T132844
CREATED:20240726T191432Z
LAST-MODIFIED:20240726T191438Z
UID:15029-1724695200-1724702400@redvers.ca
SUMMARY:Public Swimming
DESCRIPTION:
URL:https://redvers.ca/calendar-event/public-swimming-74/
LOCATION:Redvers Recreation Centre
CATEGORIES:Recreation Centre Events
END:VEVENT
BEGIN:VEVENT
DTSTART;TZID=America/Regina:20240826T170000
DTEND;TZID=America/Regina:20240826T180000
DTSTAMP:20260421T132844
CREATED:20240808T170559Z
LAST-MODIFIED:20240808T170645Z
UID:15122-1724691600-1724695200@redvers.ca
SUMMARY:Lane Swim
DESCRIPTION:
URL:https://redvers.ca/calendar-event/lane-swim-2024-08-26/
CATEGORIES:Recreation Centre Events
END:VEVENT
BEGIN:VEVENT
DTSTART;TZID=America/Regina:20240826T130000
DTEND;TZID=America/Regina:20240826T170000
DTSTAMP:20260421T132844
CREATED:20240726T191344Z
LAST-MODIFIED:20240726T191347Z
UID:15021-1724677200-1724691600@redvers.ca
SUMMARY:Public Swimming
DESCRIPTION:
URL:https://redvers.ca/calendar-event/public-swimming-73/
LOCATION:Redvers Recreation Centre
CATEGORIES:Recreation Centre Events
END:VEVENT
BEGIN:VEVENT
DTSTART;TZID=America/Regina:20240825T130000
DTEND;TZID=America/Regina:20240825T200000
DTSTAMP:20260421T132844
CREATED:20240821T151254Z
LAST-MODIFIED:20240821T154314Z
UID:15171-1724590800-1724616000@redvers.ca
SUMMARY:Carnival Themed Pool Party
DESCRIPTION:Games & Activities include a Bouncy Castle\, Kissing Booth\, Photo Booth\, Horse Race\, Crossnet\, Bubble Station\, Target Golf\, Chase the Ace (kids version)\, Corn Hole\, Cookie Decorating\, Fishing\, Ring Toss\, Roller Balls\, Hungry Hippos\, Frisbee Tic Tac Toe\, Water Gun Painting\, and Ladder Ball
URL:https://redvers.ca/calendar-event/carnival-themed-pool-party/
LOCATION:Redvers Recreation Centre
CATEGORIES:Recreation Centre Events
ATTACH;FMTTYPE=image/jpeg:https://redvers.ca/wp-content/uploads/2024/08/Pool-Poster.jpg
END:VEVENT
BEGIN:VEVENT
DTSTART;TZID=America/Regina:20240825T120000
DTEND;TZID=America/Regina:20240825T160000
DTSTAMP:20260421T132844
CREATED:20230926T182217Z
LAST-MODIFIED:20230926T182217Z
UID:12755-1724587200-1724601600@redvers.ca
SUMMARY:Transfer Station
DESCRIPTION:
URL:https://redvers.ca/calendar-event/transfer-station-2024-08-25/
CATEGORIES:Town of Redvers
END:VEVENT
BEGIN:VEVENT
DTSTART;TZID=America/Regina:20240824T130000
DTEND;TZID=America/Regina:20240824T200000
DTSTAMP:20260421T132844
CREATED:20240726T184844Z
LAST-MODIFIED:20240821T151019Z
UID:15012-1724504400-1724529600@redvers.ca
SUMMARY:Public Swimming
DESCRIPTION:
URL:https://redvers.ca/calendar-event/public-swimming-71-2024-08-24/
LOCATION:Redvers Recreation Centre
CATEGORIES:Recreation Centre Events
END:VEVENT
BEGIN:VEVENT
DTSTART;TZID=America/Regina:20240824T110000
DTEND;TZID=America/Regina:20240824T210000
DTSTAMP:20260421T132844
CREATED:20240719T151816Z
LAST-MODIFIED:20240719T152037Z
UID:14824-1724497200-1724533200@redvers.ca
SUMMARY:Ladies Golf Tournament
DESCRIPTION:
URL:https://redvers.ca/calendar-event/ladies-golf-tournament-3/
LOCATION:Redvers Golf & Country Club
CATEGORIES:General Events,Golf Course Events
END:VEVENT
END:VCALENDAR