BEGIN:VCALENDAR
VERSION:2.0
PRODID:-//Redvers, Saskatchewan - ECPv6.15.20//NONSGML v1.0//EN
CALSCALE:GREGORIAN
METHOD:PUBLISH
X-ORIGINAL-URL:https://redvers.ca
X-WR-CALDESC:Events for Redvers, Saskatchewan
REFRESH-INTERVAL;VALUE=DURATION:PT1H
X-Robots-Tag:noindex
X-PUBLISHED-TTL:PT1H
BEGIN:VTIMEZONE
TZID:America/Regina
BEGIN:STANDARD
TZOFFSETFROM:-0600
TZOFFSETTO:-0600
TZNAME:CST
DTSTART:20240101T000000
END:STANDARD
END:VTIMEZONE
BEGIN:VEVENT
DTSTART;TZID=America/Regina:20250911T160000
DTEND;TZID=America/Regina:20250911T190000
DTSTAMP:20260422T014113
CREATED:20250103T165441Z
LAST-MODIFIED:20250103T165441Z
UID:16637-1757606400-1757617200@redvers.ca
SUMMARY:Transfer Station
DESCRIPTION:
URL:https://redvers.ca/calendar-event/transfer-station-5-2025-09-11/
CATEGORIES:Town of Redvers
END:VEVENT
BEGIN:VEVENT
DTSTART;VALUE=DATE:20250912
DTEND;VALUE=DATE:20250913
DTSTAMP:20260422T014113
CREATED:20241230T170855Z
LAST-MODIFIED:20241230T170855Z
UID:16326-1757635200-1757721599@redvers.ca
SUMMARY:Recycle Collection
DESCRIPTION:Carts must be out by 7a.m. on collection days.
URL:https://redvers.ca/calendar-event/recycle-collection-2-2025-09-12/
CATEGORIES:Arts Centre Events
END:VEVENT
BEGIN:VEVENT
DTSTART;TZID=America/Regina:20250914T120000
DTEND;TZID=America/Regina:20250914T160000
DTSTAMP:20260422T014113
CREATED:20250103T165227Z
LAST-MODIFIED:20250106T193154Z
UID:16675-1757851200-1757865600@redvers.ca
SUMMARY:Transfer Station
DESCRIPTION:
URL:https://redvers.ca/calendar-event/transfer-station-4-2025-09-14/
CATEGORIES:Town of Redvers
END:VEVENT
BEGIN:VEVENT
DTSTART;TZID=America/Regina:20250916T160000
DTEND;TZID=America/Regina:20250916T190000
DTSTAMP:20260422T014113
CREATED:20250103T165441Z
LAST-MODIFIED:20250103T165441Z
UID:16638-1758038400-1758049200@redvers.ca
SUMMARY:Transfer Station
DESCRIPTION:
URL:https://redvers.ca/calendar-event/transfer-station-5-2025-09-16/
CATEGORIES:Town of Redvers
END:VEVENT
BEGIN:VEVENT
DTSTART;TZID=America/Regina:20250917T180000
DTEND;TZID=America/Regina:20250917T210000
DTSTAMP:20260422T014113
CREATED:20250103T164749Z
LAST-MODIFIED:20250103T164749Z
UID:16565-1758132000-1758142800@redvers.ca
SUMMARY:Council Meeting
DESCRIPTION:
URL:https://redvers.ca/calendar-event/council-meeting-46/
LOCATION:Redvers Town Office
CATEGORIES:Town of Redvers
END:VEVENT
BEGIN:VEVENT
DTSTART;TZID=America/Regina:20250918T160000
DTEND;TZID=America/Regina:20250918T190000
DTSTAMP:20260422T014113
CREATED:20250103T165441Z
LAST-MODIFIED:20250103T165441Z
UID:16639-1758211200-1758222000@redvers.ca
SUMMARY:Transfer Station
DESCRIPTION:
URL:https://redvers.ca/calendar-event/transfer-station-5-2025-09-18/
CATEGORIES:Town of Redvers
END:VEVENT
BEGIN:VEVENT
DTSTART;VALUE=DATE:20250919
DTEND;VALUE=DATE:20250920
DTSTAMP:20260422T014113
CREATED:20241230T171118Z
LAST-MODIFIED:20241230T171118Z
UID:16353-1758240000-1758326399@redvers.ca
SUMMARY:Garbage Collection
DESCRIPTION:Carts must be out by 7a.m. on collection days.
URL:https://redvers.ca/calendar-event/garbage-collection-5-2025-09-19/
CATEGORIES:Town of Redvers
END:VEVENT
BEGIN:VEVENT
DTSTART;TZID=America/Regina:20250921T120000
DTEND;TZID=America/Regina:20250921T160000
DTSTAMP:20260422T014113
CREATED:20250103T165227Z
LAST-MODIFIED:20250106T193154Z
UID:16676-1758456000-1758470400@redvers.ca
SUMMARY:Transfer Station
DESCRIPTION:
URL:https://redvers.ca/calendar-event/transfer-station-4-2025-09-21/
CATEGORIES:Town of Redvers
END:VEVENT
BEGIN:VEVENT
DTSTART;VALUE=DATE:20250926
DTEND;VALUE=DATE:20250927
DTSTAMP:20260422T014113
CREATED:20241230T170855Z
LAST-MODIFIED:20241230T170855Z
UID:16327-1758844800-1758931199@redvers.ca
SUMMARY:Recycle Collection
DESCRIPTION:Carts must be out by 7a.m. on collection days.
URL:https://redvers.ca/calendar-event/recycle-collection-2-2025-09-26/
CATEGORIES:Arts Centre Events
END:VEVENT
BEGIN:VEVENT
DTSTART;VALUE=DATE:20250928
DTEND;VALUE=DATE:20250929
DTSTAMP:20260422T014113
CREATED:20250106T193831Z
LAST-MODIFIED:20250106T193831Z
UID:16756-1759017600-1759103999@redvers.ca
SUMMARY:Covering the Corner Deadline
DESCRIPTION:
URL:https://redvers.ca/calendar-event/covering-the-corner-deadline-12/
CATEGORIES:General Events
END:VEVENT
BEGIN:VEVENT
DTSTART;TZID=America/Regina:20250928T120000
DTEND;TZID=America/Regina:20250928T160000
DTSTAMP:20260422T014113
CREATED:20250103T165227Z
LAST-MODIFIED:20250106T193154Z
UID:16677-1759060800-1759075200@redvers.ca
SUMMARY:Transfer Station
DESCRIPTION:
URL:https://redvers.ca/calendar-event/transfer-station-4-2025-09-28/
CATEGORIES:Town of Redvers
END:VEVENT
BEGIN:VEVENT
DTSTART;VALUE=DATE:20251002
DTEND;VALUE=DATE:20251003
DTSTAMP:20260422T014113
CREATED:20250106T193853Z
LAST-MODIFIED:20250106T193853Z
UID:16758-1759363200-1759449599@redvers.ca
SUMMARY:Covering the Corner Distribution
DESCRIPTION:
URL:https://redvers.ca/calendar-event/covering-the-corner-distribution-10/
CATEGORIES:General Events
END:VEVENT
BEGIN:VEVENT
DTSTART;VALUE=DATE:20251003
DTEND;VALUE=DATE:20251004
DTSTAMP:20260422T014113
CREATED:20241230T171118Z
LAST-MODIFIED:20241230T171118Z
UID:16354-1759449600-1759535999@redvers.ca
SUMMARY:Garbage Collection
DESCRIPTION:Carts must be out by 7a.m. on collection days.
URL:https://redvers.ca/calendar-event/garbage-collection-5-2025-10-03/
CATEGORIES:Town of Redvers
END:VEVENT
BEGIN:VEVENT
DTSTART;TZID=America/Regina:20251005T120000
DTEND;TZID=America/Regina:20251005T160000
DTSTAMP:20260422T014113
CREATED:20250103T165227Z
LAST-MODIFIED:20250106T193154Z
UID:16678-1759665600-1759680000@redvers.ca
SUMMARY:Transfer Station
DESCRIPTION:
URL:https://redvers.ca/calendar-event/transfer-station-4-2025-10-05/
CATEGORIES:Town of Redvers
END:VEVENT
BEGIN:VEVENT
DTSTART;VALUE=DATE:20251010
DTEND;VALUE=DATE:20251011
DTSTAMP:20260422T014113
CREATED:20241230T170855Z
LAST-MODIFIED:20241230T170855Z
UID:16328-1760054400-1760140799@redvers.ca
SUMMARY:Recycle Collection
DESCRIPTION:Carts must be out by 7a.m. on collection days.
URL:https://redvers.ca/calendar-event/recycle-collection-2-2025-10-10/
CATEGORIES:Arts Centre Events
END:VEVENT
BEGIN:VEVENT
DTSTART;TZID=America/Regina:20251012T120000
DTEND;TZID=America/Regina:20251012T160000
DTSTAMP:20260422T014113
CREATED:20250103T165227Z
LAST-MODIFIED:20250106T193155Z
UID:16679-1760270400-1760284800@redvers.ca
SUMMARY:Transfer Station
DESCRIPTION:
URL:https://redvers.ca/calendar-event/transfer-station-4-2025-10-12/
CATEGORIES:Town of Redvers
END:VEVENT
BEGIN:VEVENT
DTSTART;TZID=America/Regina:20251013T080000
DTEND;TZID=America/Regina:20251013T170000
DTSTAMP:20260422T014113
CREATED:20250103T164523Z
LAST-MODIFIED:20250103T164523Z
UID:16559-1760342400-1760374800@redvers.ca
SUMMARY:STAT
DESCRIPTION:
URL:https://redvers.ca/calendar-event/stat-13/
LOCATION:Redvers Town Office
CATEGORIES:Town of Redvers
END:VEVENT
BEGIN:VEVENT
DTSTART;VALUE=DATE:20251017
DTEND;VALUE=DATE:20251018
DTSTAMP:20260422T014113
CREATED:20241230T171118Z
LAST-MODIFIED:20241230T171118Z
UID:16355-1760659200-1760745599@redvers.ca
SUMMARY:Garbage Collection
DESCRIPTION:Carts must be out by 7a.m. on collection days.
URL:https://redvers.ca/calendar-event/garbage-collection-5-2025-10-17/
CATEGORIES:Town of Redvers
END:VEVENT
BEGIN:VEVENT
DTSTART;TZID=America/Regina:20251019T120000
DTEND;TZID=America/Regina:20251019T160000
DTSTAMP:20260422T014113
CREATED:20250103T165227Z
LAST-MODIFIED:20250106T193155Z
UID:16680-1760875200-1760889600@redvers.ca
SUMMARY:Transfer Station
DESCRIPTION:
URL:https://redvers.ca/calendar-event/transfer-station-4-2025-10-19/
CATEGORIES:Town of Redvers
END:VEVENT
BEGIN:VEVENT
DTSTART;TZID=America/Regina:20251022T180000
DTEND;TZID=America/Regina:20251022T210000
DTSTAMP:20260422T014113
CREATED:20250103T164817Z
LAST-MODIFIED:20250103T164817Z
UID:16567-1761156000-1761166800@redvers.ca
SUMMARY:Council Meeting
DESCRIPTION:
URL:https://redvers.ca/calendar-event/council-meeting-47/
LOCATION:Redvers Town Office
CATEGORIES:Town of Redvers
END:VEVENT
BEGIN:VEVENT
DTSTART;VALUE=DATE:20251024
DTEND;VALUE=DATE:20251025
DTSTAMP:20260422T014113
CREATED:20241230T170855Z
LAST-MODIFIED:20241230T170855Z
UID:16329-1761264000-1761350399@redvers.ca
SUMMARY:Recycle Collection
DESCRIPTION:Carts must be out by 7a.m. on collection days.
URL:https://redvers.ca/calendar-event/recycle-collection-2-2025-10-24/
CATEGORIES:Arts Centre Events
END:VEVENT
BEGIN:VEVENT
DTSTART;TZID=America/Regina:20251026T120000
DTEND;TZID=America/Regina:20251026T160000
DTSTAMP:20260422T014113
CREATED:20250103T165227Z
LAST-MODIFIED:20250106T193155Z
UID:16681-1761480000-1761494400@redvers.ca
SUMMARY:Transfer Station
DESCRIPTION:
URL:https://redvers.ca/calendar-event/transfer-station-4-2025-10-26/
CATEGORIES:Town of Redvers
END:VEVENT
BEGIN:VEVENT
DTSTART;VALUE=DATE:20251031
DTEND;VALUE=DATE:20251101
DTSTAMP:20260422T014113
CREATED:20241230T171118Z
LAST-MODIFIED:20241230T171118Z
UID:16356-1761868800-1761955199@redvers.ca
SUMMARY:Garbage Collection
DESCRIPTION:Carts must be out by 7a.m. on collection days.
URL:https://redvers.ca/calendar-event/garbage-collection-5-2025-10-31/
CATEGORIES:Town of Redvers
END:VEVENT
BEGIN:VEVENT
DTSTART;VALUE=DATE:20251102
DTEND;VALUE=DATE:20251103
DTSTAMP:20260422T014113
CREATED:20250106T194408Z
LAST-MODIFIED:20250106T194408Z
UID:16760-1762041600-1762127999@redvers.ca
SUMMARY:Covering the Corner Deadline
DESCRIPTION:
URL:https://redvers.ca/calendar-event/covering-the-corner-deadline-13/
CATEGORIES:General Events
END:VEVENT
BEGIN:VEVENT
DTSTART;TZID=America/Regina:20251102T120000
DTEND;TZID=America/Regina:20251102T160000
DTSTAMP:20260422T014113
CREATED:20250103T165227Z
LAST-MODIFIED:20250106T193155Z
UID:16682-1762084800-1762099200@redvers.ca
SUMMARY:Transfer Station
DESCRIPTION:
URL:https://redvers.ca/calendar-event/transfer-station-4-2025-11-02/
CATEGORIES:Town of Redvers
END:VEVENT
BEGIN:VEVENT
DTSTART;VALUE=DATE:20251106
DTEND;VALUE=DATE:20251107
DTSTAMP:20260422T014113
CREATED:20250106T194744Z
LAST-MODIFIED:20250106T194744Z
UID:16762-1762387200-1762473599@redvers.ca
SUMMARY:Covering the Corner Distribution
DESCRIPTION:
URL:https://redvers.ca/calendar-event/covering-the-corner-distribution-11/
CATEGORIES:General Events
END:VEVENT
BEGIN:VEVENT
DTSTART;VALUE=DATE:20251107
DTEND;VALUE=DATE:20251108
DTSTAMP:20260422T014113
CREATED:20241230T170855Z
LAST-MODIFIED:20241230T170855Z
UID:16330-1762473600-1762559999@redvers.ca
SUMMARY:Recycle Collection
DESCRIPTION:Carts must be out by 7a.m. on collection days.
URL:https://redvers.ca/calendar-event/recycle-collection-2-2025-11-07/
CATEGORIES:Arts Centre Events
END:VEVENT
BEGIN:VEVENT
DTSTART;TZID=America/Regina:20251109T120000
DTEND;TZID=America/Regina:20251109T160000
DTSTAMP:20260422T014113
CREATED:20250103T165227Z
LAST-MODIFIED:20250106T193155Z
UID:16683-1762689600-1762704000@redvers.ca
SUMMARY:Transfer Station
DESCRIPTION:
URL:https://redvers.ca/calendar-event/transfer-station-4-2025-11-09/
CATEGORIES:Town of Redvers
END:VEVENT
BEGIN:VEVENT
DTSTART;VALUE=DATE:20251111
DTEND;VALUE=DATE:20251112
DTSTAMP:20260422T014113
CREATED:20250103T164552Z
LAST-MODIFIED:20250103T164552Z
UID:16561-1762819200-1762905599@redvers.ca
SUMMARY:STAT
DESCRIPTION:
URL:https://redvers.ca/calendar-event/stat-14/
LOCATION:Redvers Town Office
CATEGORIES:Town of Redvers
END:VEVENT
BEGIN:VEVENT
DTSTART;VALUE=DATE:20251114
DTEND;VALUE=DATE:20251115
DTSTAMP:20260422T014113
CREATED:20241230T171118Z
LAST-MODIFIED:20241230T171118Z
UID:16357-1763078400-1763164799@redvers.ca
SUMMARY:Garbage Collection
DESCRIPTION:Carts must be out by 7a.m. on collection days.
URL:https://redvers.ca/calendar-event/garbage-collection-5-2025-11-14/
CATEGORIES:Town of Redvers
END:VEVENT
END:VCALENDAR