BEGIN:VCALENDAR
VERSION:2.0
PRODID:-//Redvers, Saskatchewan - ECPv6.15.20//NONSGML v1.0//EN
CALSCALE:GREGORIAN
METHOD:PUBLISH
X-ORIGINAL-URL:https://redvers.ca
X-WR-CALDESC:Events for Redvers, Saskatchewan
REFRESH-INTERVAL;VALUE=DURATION:PT1H
X-Robots-Tag:noindex
X-PUBLISHED-TTL:PT1H
BEGIN:VTIMEZONE
TZID:America/Regina
BEGIN:STANDARD
TZOFFSETFROM:-0600
TZOFFSETTO:-0600
TZNAME:CST
DTSTART:20240101T000000
END:STANDARD
END:VTIMEZONE
BEGIN:VEVENT
DTSTART;VALUE=DATE:20251128
DTEND;VALUE=DATE:20251129
DTSTAMP:20260425T123327
CREATED:20241230T171118Z
LAST-MODIFIED:20241230T171118Z
UID:16358-1764288000-1764374399@redvers.ca
SUMMARY:Garbage Collection
DESCRIPTION:Carts must be out by 7a.m. on collection days.
URL:https://redvers.ca/calendar-event/garbage-collection-5-2025-11-28/
CATEGORIES:Town of Redvers
END:VEVENT
BEGIN:VEVENT
DTSTART;VALUE=DATE:20251130
DTEND;VALUE=DATE:20251201
DTSTAMP:20260425T123327
CREATED:20250106T195014Z
LAST-MODIFIED:20250106T195014Z
UID:16764-1764460800-1764547199@redvers.ca
SUMMARY:Covering the Corner Deadline
DESCRIPTION:
URL:https://redvers.ca/calendar-event/covering-the-corner-deadline-14/
CATEGORIES:General Events
END:VEVENT
BEGIN:VEVENT
DTSTART;TZID=America/Regina:20251130T120000
DTEND;TZID=America/Regina:20251130T160000
DTSTAMP:20260425T123327
CREATED:20250103T165227Z
LAST-MODIFIED:20250106T193155Z
UID:16686-1764504000-1764518400@redvers.ca
SUMMARY:Transfer Station
DESCRIPTION:
URL:https://redvers.ca/calendar-event/transfer-station-4-2025-11-30/
CATEGORIES:Town of Redvers
END:VEVENT
BEGIN:VEVENT
DTSTART;VALUE=DATE:20251204
DTEND;VALUE=DATE:20251205
DTSTAMP:20260425T123327
CREATED:20250106T195048Z
LAST-MODIFIED:20250106T195048Z
UID:16766-1764806400-1764892799@redvers.ca
SUMMARY:Covering the Corner Distribution
DESCRIPTION:
URL:https://redvers.ca/calendar-event/covering-the-corner-distribution-12/
CATEGORIES:General Events
END:VEVENT
BEGIN:VEVENT
DTSTART;VALUE=DATE:20251205
DTEND;VALUE=DATE:20251206
DTSTAMP:20260425T123327
CREATED:20241230T170855Z
LAST-MODIFIED:20241230T170855Z
UID:16332-1764892800-1764979199@redvers.ca
SUMMARY:Recycle Collection
DESCRIPTION:Carts must be out by 7a.m. on collection days.
URL:https://redvers.ca/calendar-event/recycle-collection-2-2025-12-05/
CATEGORIES:Arts Centre Events
END:VEVENT
BEGIN:VEVENT
DTSTART;TZID=America/Regina:20251207T120000
DTEND;TZID=America/Regina:20251207T160000
DTSTAMP:20260425T123327
CREATED:20250103T165227Z
LAST-MODIFIED:20250106T193155Z
UID:16687-1765108800-1765123200@redvers.ca
SUMMARY:Transfer Station
DESCRIPTION:
URL:https://redvers.ca/calendar-event/transfer-station-4-2025-12-07/
CATEGORIES:Town of Redvers
END:VEVENT
BEGIN:VEVENT
DTSTART;VALUE=DATE:20251212
DTEND;VALUE=DATE:20251213
DTSTAMP:20260425T123327
CREATED:20241230T171118Z
LAST-MODIFIED:20241230T171118Z
UID:16359-1765497600-1765583999@redvers.ca
SUMMARY:Garbage Collection
DESCRIPTION:Carts must be out by 7a.m. on collection days.
URL:https://redvers.ca/calendar-event/garbage-collection-5-2025-12-12/
CATEGORIES:Town of Redvers
END:VEVENT
BEGIN:VEVENT
DTSTART;TZID=America/Regina:20251214T120000
DTEND;TZID=America/Regina:20251214T160000
DTSTAMP:20260425T123327
CREATED:20250103T165227Z
LAST-MODIFIED:20250106T193155Z
UID:16688-1765713600-1765728000@redvers.ca
SUMMARY:Transfer Station
DESCRIPTION:
URL:https://redvers.ca/calendar-event/transfer-station-4-2025-12-14/
CATEGORIES:Town of Redvers
END:VEVENT
BEGIN:VEVENT
DTSTART;TZID=America/Regina:20251217T180000
DTEND;TZID=America/Regina:20251217T210000
DTSTAMP:20260425T123327
CREATED:20250103T164918Z
LAST-MODIFIED:20250103T164918Z
UID:16571-1765994400-1766005200@redvers.ca
SUMMARY:Council Meeting
DESCRIPTION:
URL:https://redvers.ca/calendar-event/council-meeting-49/
LOCATION:Redvers Town Office
CATEGORIES:Town of Redvers
END:VEVENT
BEGIN:VEVENT
DTSTART;VALUE=DATE:20251219
DTEND;VALUE=DATE:20251220
DTSTAMP:20260425T123327
CREATED:20241230T170855Z
LAST-MODIFIED:20241230T170855Z
UID:16333-1766102400-1766188799@redvers.ca
SUMMARY:Recycle Collection
DESCRIPTION:Carts must be out by 7a.m. on collection days.
URL:https://redvers.ca/calendar-event/recycle-collection-2-2025-12-19/
CATEGORIES:Arts Centre Events
END:VEVENT
BEGIN:VEVENT
DTSTART;VALUE=DATE:20251225
DTEND;VALUE=DATE:20251227
DTSTAMP:20260425T123327
CREATED:20250103T164631Z
LAST-MODIFIED:20250103T164631Z
UID:16563-1766620800-1766793599@redvers.ca
SUMMARY:STAT
DESCRIPTION:
URL:https://redvers.ca/calendar-event/stat-15/
LOCATION:Redvers Town Office
CATEGORIES:Town of Redvers
END:VEVENT
BEGIN:VEVENT
DTSTART;VALUE=DATE:20251226
DTEND;VALUE=DATE:20251227
DTSTAMP:20260425T123327
CREATED:20241230T171118Z
LAST-MODIFIED:20241230T171118Z
UID:16360-1766707200-1766793599@redvers.ca
SUMMARY:Garbage Collection
DESCRIPTION:Carts must be out by 7a.m. on collection days.
URL:https://redvers.ca/calendar-event/garbage-collection-5-2025-12-26/
CATEGORIES:Town of Redvers
END:VEVENT
BEGIN:VEVENT
DTSTART;VALUE=DATE:20260101
DTEND;VALUE=DATE:20260102
DTSTAMP:20260425T123327
CREATED:20241230T215920Z
LAST-MODIFIED:20241230T215920Z
UID:16479-1767225600-1767311999@redvers.ca
SUMMARY:STAT
DESCRIPTION:
URL:https://redvers.ca/calendar-event/stat-5-2026-01-01/
LOCATION:Redvers Town Office
CATEGORIES:Town of Redvers
END:VEVENT
BEGIN:VEVENT
DTSTART;VALUE=DATE:20270101
DTEND;VALUE=DATE:20270102
DTSTAMP:20260425T123327
CREATED:20241230T215920Z
LAST-MODIFIED:20241230T215920Z
UID:16514-1798761600-1798847999@redvers.ca
SUMMARY:STAT
DESCRIPTION:
URL:https://redvers.ca/calendar-event/stat-5-2027-01-01/
LOCATION:Redvers Town Office
CATEGORIES:Town of Redvers
END:VEVENT
END:VCALENDAR